BEGIN:VCALENDAR
VERSION:2.0
PRODID:-//wp-events-plugin.com//7.2.3.1//EN
TZID:America/New_York
X-WR-TIMEZONE:America/New_York
BEGIN:VEVENT
UID:155868@kingstonhappenings.org
DTSTART;TZID=America/New_York:20260314T163000
DTEND;TZID=America/New_York:20260314T183000
DTSTAMP:20260312T185130Z
URL:https://kingstonhappenings.org/events/guided-imagery-sound-healing-wit
 h-angel-readings-7/
SUMMARY:Guided Imagery &amp\; Sound Healing with Angel Readings
DESCRIPTION:Guided Imagery Meditation\n\nReadings\n\nHealing\n\nCrystal Cha
 kra Bowls Vibes to clear and balance\n\nGong Wash to clear negativity and 
 balance\n\nHow to get in?\n\nEnter the Fair Street handicapped entrance\, 
 text me if the door is locked:  516-708-5213\n\nGo upstairs through the l
 ong hallway to the first room on the balcony\n\n$25 donation\n\nLorry 516-
 708-5213\n\n&nbsp\;
ATTACH;FMTTYPE=image/jpeg:https://kingstonhappenings.org/wp-content/upload
 s/2026/03/Healing-circle-colorful.png
CATEGORIES:@Featured,Community,For seniors,Health, fitness, yoga, martial
 arts and other classes
LOCATION:Old Dutch Church\, 272 Wall St\, Kingston\, NY\, 12401\, United St
 ates
GEO:41.932863;-74.018839
X-APPLE-STRUCTURED-LOCATION;VALUE=URI;X-ADDRESS=272 Wall St\, Kingston\, NY
 \, 12401\, United States;X-APPLE-RADIUS=100;X-TITLE=Old Dutch Church:geo:4
 1.932863,-74.018839
END:VEVENT
BEGIN:VTIMEZONE
TZID:America/New_York
X-LIC-LOCATION:America/New_York
BEGIN:DAYLIGHT
DTSTART:20260308T030000
TZOFFSETFROM:-0500
TZOFFSETTO:-0400
TZNAME:EDT
END:DAYLIGHT
END:VTIMEZONE
END:VCALENDAR