BEGIN:VCALENDAR
VERSION:2.0
PRODID:-//wp-events-plugin.com//7.2.3.1//EN
TZID:America/New_York
X-WR-TIMEZONE:America/New_York
BEGIN:VEVENT
UID:153433@kingstonhappenings.org
DTSTART;TZID=America/New_York:20260110T163000
DTEND;TZID=America/New_York:20260110T183000
DTSTAMP:20260106T152547Z
URL:https://kingstonhappenings.org/events/guided-imagery-sound-healing-wit
 h-angel-readings-2/
SUMMARY:Guided Imagery & Sound Healing with Angel Readings
DESCRIPTION:&nbsp\;\n\n\n\n\n\n\n\n\n\n\n\n\n\nJoin us for a Reiki Meeting 
 &amp\;  Healing Circle with Readings &amp\; Sound Healing. We will do our
  usual Reiki Healing Circle(I will include a Reiki share upon request)Give
  a healing /get a healing\,Share the love!\n\nYou will enjoy:\n\nGuided Im
 agery Meditation\n\nReadings\n\nHealing\n\nCrystal Chakra Bowls Vibes to c
 lear and balance\n\nGong Wash to clear negativity and balance\n\nHow to ge
 t in?\n\nEnter the Fair Street handicapped entrance\n\nGo upstairs through
  the long hallway to the first room on the balcony\n\n$25 donation\n\nLorr
 y 516-708-5213\n\n\n\n\n\n\n\n\n\n&nbsp\;\n\n\n\n\n\n\n\n\n\n\n\n\n\n\n\n\
 n\n\n\n\n\n\n\n\n\n\n\n&nbsp\;
ATTACH;FMTTYPE=image/jpeg:https://kingstonhappenings.org/wp-content/upload
 s/2026/01/reiki-energy-colorful.jpg
CATEGORIES:@Featured,@Newsletter,Community,Health, fitness, yoga, martial
 arts and other classes
LOCATION:Old Dutch Church\, 272 Wall St\, Kingston\, NY\, 12401\, United St
 ates
GEO:41.932863;-74.018839
X-APPLE-STRUCTURED-LOCATION;VALUE=URI;X-ADDRESS=272 Wall St\, Kingston\, NY
 \, 12401\, United States;X-APPLE-RADIUS=100;X-TITLE=Old Dutch Church:geo:4
 1.932863,-74.018839
END:VEVENT
BEGIN:VTIMEZONE
TZID:America/New_York
X-LIC-LOCATION:America/New_York
BEGIN:STANDARD
DTSTART:20251102T010000
TZOFFSETFROM:-0400
TZOFFSETTO:-0500
TZNAME:EST
END:STANDARD
END:VTIMEZONE
END:VCALENDAR