BEGIN:VCALENDAR
VERSION:2.0
PRODID:-//wp-events-plugin.com//7.2.3.1//EN
TZID:America/New_York
X-WR-TIMEZONE:America/New_York
BEGIN:VEVENT
UID:152042@kingstonhappenings.org
DTSTART;TZID=America/New_York:20250927T180000
DTEND;TZID=America/New_York:20250927T210000
DTSTAMP:20250922T205408Z
URL:https://kingstonhappenings.org/events/greater-mysteries-2/
SUMMARY:Greater Mysteries
DESCRIPTION:Greater Mysteries at Widow Jane Mine:\n \nAn immersive concert 
 ritual inspired by myth\, music\, and transformation\nGreater Mysteries is
  a collaborative\, intergenerational music performance project rooted in a
 ncient myth and shaped by contemporary ritual and community co-creation. 
 \nInspired by timeless journeys to the underworld and the cycle of transfo
 rmation\, it invites audiences into a shared experience through immersive 
 sound\, movement\, storytelling\, and collective ritual. We are thrilled t
 o bring this work to the naturally resonant Widow Jane Mine\, where the ca
 ve-like setting echoes the mythic themes at the heart of the project.\n\nT
 hese are not traditional concerts\, but living rites of passage - spaces w
 here the boundary between artist and audience dissolves\, and music become
 s a vessel for personal and communal transformation.\n\nPlease join us on 
 September 26 &amp\; 27 at 6PM to honor the turning seasons\, celebrate the
  abundance of the Hudson Valley\, and revel in the joy of being fully aliv
 e. \n\nTickets/more info: https://widowjanemine.ticketspice.com/greater-m
 ysteries\n\nTo learn more about the project\, visit: www.greatermysteries.
 com \n\nTo preview the music\, click here
ATTACH;FMTTYPE=image/jpeg:https://kingstonhappenings.org/wp-content/upload
 s/2025/08/Greater-Mysteries-2025-IG.jpg
CATEGORIES:@Featured,@Newsletter,Festivals and major community
 events,Music
LOCATION:The Snyder Estate\, 668 Route 213\, Rosendale\, New York\, United 
 States
GEO:41.840979;-74.097719
X-APPLE-STRUCTURED-LOCATION;VALUE=URI;X-ADDRESS=668 Route 213\, Rosendale\,
  New York\, United States;X-APPLE-RADIUS=100;X-TITLE=The Snyder Estate:geo
 :41.840979,-74.097719
END:VEVENT
BEGIN:VTIMEZONE
TZID:America/New_York
X-LIC-LOCATION:America/New_York
BEGIN:DAYLIGHT
DTSTART:20250309T030000
TZOFFSETFROM:-0500
TZOFFSETTO:-0400
TZNAME:EDT
END:DAYLIGHT
END:VTIMEZONE
END:VCALENDAR