BEGIN:VCALENDAR
VERSION:2.0
PRODID:-//wp-events-plugin.com//7.2.3.1//EN
TZID:America/New_York
X-WR-TIMEZONE:America/New_York
BEGIN:VEVENT
UID:155357@kingstonhappenings.org
DTSTART;TZID=America/New_York:20260221T210000
DTEND;TZID=America/New_York:20260221T210000
DTSTAMP:20260223T125004Z
URL:https://kingstonhappenings.org/events/great-life-takes-over-kestrel/
SUMMARY:Great Life Takes Over Kestrel
DESCRIPTION:Join us for a Tap Take Over of EPIC proportions! 13 lines of ou
 r delicious beers\, including some 1 offs and special treats.\nOur buddy K
 evin (Head Brewer at Keegan Ales) AKA Clever Kev will be DJing to bring th
 e energy.\nPurchase a beer and receive a raffle ticket. Every 45 minutes w
 e will call a winner. Prizes include 4 packs\, swag\, gift cards and decis
 ions.\nOur guy Steve (owner of Kestrel) will be donating part of the proce
 eds from the day to the Polar Plunge to benefit Special Olympics NY.\nTell
  your friends\, tell your neighbors\, tell your boss and come down for an 
 awesome time!
ATTACH;FMTTYPE=image/jpeg:https://kingstonhappenings.org/wp-content/upload
 s/2026/02/625279539_1706290180709970_8477050242429780357_n-e1771249102151.
 jpg
CATEGORIES:@Featured,@Newsletter,Community,Market
LOCATION:Kestrel Tavern\, 21 O'Neil St. \, KINGSTON\, NY\, 12401\, United S
 tates
GEO:41.930825;-74.005155
X-APPLE-STRUCTURED-LOCATION;VALUE=URI;X-ADDRESS=21 O'Neil St. \, KINGSTON\,
  NY\, 12401\, United States;X-APPLE-RADIUS=100;X-TITLE=Kestrel Tavern:geo:
 41.930825,-74.005155
END:VEVENT
BEGIN:VTIMEZONE
TZID:America/New_York
X-LIC-LOCATION:America/New_York
BEGIN:STANDARD
DTSTART:20251102T010000
TZOFFSETFROM:-0400
TZOFFSETTO:-0500
TZNAME:EST
END:STANDARD
END:VTIMEZONE
END:VCALENDAR