BEGIN:VCALENDAR
VERSION:2.0
PRODID:-//wp-events-plugin.com//7.2.3.1//EN
TZID:America/New_York
X-WR-TIMEZONE:America/New_York
BEGIN:VEVENT
UID:152316@kingstonhappenings.org
DTSTART;TZID=America/New_York:20251018T190000
DTEND;TZID=America/New_York:20251018T190000
DTSTAMP:20251013T172049Z
URL:https://kingstonhappenings.org/events/gratefully-yours/
SUMMARY:Gratefully Yours
DESCRIPTION:Come on out for an evening of your dream Grateful Dead setlist 
 LIVE at Keegan Ales!!Join Gratefully Yours for an evening of good ol’ Gr
 ateful Dead and dance the night away at Keegan Ales.\nGratefully Yours is 
 an all-star lineup of Grateful Dead-inspired musicians performing your dre
 am Grateful Dead set lists. You will not want to miss this incredible show
 !
ATTACH;FMTTYPE=image/jpeg:https://kingstonhappenings.org/wp-content/upload
 s/2025/10/558872227_1352904659571227_8068888436594908929_n.jpg
CATEGORIES:@Featured,@Newsletter,Music
LOCATION:Keegan Ales\, 20 Saint James Street\, Kingston\, NY\, 12401\, Unit
 ed States
GEO:41.931504;-74.01187
X-APPLE-STRUCTURED-LOCATION;VALUE=URI;X-ADDRESS=20 Saint James Street\, Kin
 gston\, NY\, 12401\, United States;X-APPLE-RADIUS=100;X-TITLE=Keegan Ales:
 geo:41.931504,-74.01187
END:VEVENT
BEGIN:VTIMEZONE
TZID:America/New_York
X-LIC-LOCATION:America/New_York
BEGIN:DAYLIGHT
DTSTART:20250309T030000
TZOFFSETFROM:-0500
TZOFFSETTO:-0400
TZNAME:EDT
END:DAYLIGHT
END:VTIMEZONE
END:VCALENDAR