BEGIN:VCALENDAR
VERSION:2.0
PRODID:-//wp-events-plugin.com//7.2.3.1//EN
TZID:America/New_York
X-WR-TIMEZONE:America/New_York
BEGIN:VEVENT
UID:153136@kingstonhappenings.org
DTSTART;TZID=America/New_York:20251217T190000
DTEND;TZID=America/New_York:20251217T190000
DTSTAMP:20251216T143614Z
URL:https://kingstonhappenings.org/events/gratefully-yours-3/
SUMMARY:Gratefully Yours!
DESCRIPTION:Gratefully Yours has emerged as one of the premier Grateful Dea
 d cover bands in the Northeast. Based out of the Hudson Valley in NY\, the
  band is comprised of an all-star lineup of long-time jam band musicians f
 rom the area. Their willingness and ability to improvise and their opennes
 s to spontaneity and the energy of the moment lie at the core of their per
 formances and truly sets them apart.It is about creating that Grateful Dea
 d “magic” that Gratefully Yours truly aims to pay tribute to.\nFeaturi
 ng - Alex Mazur (keyboard\, vocals) Robert Schiff (rhythm guitar\, vocals)
  Jude DeFalco (drums)\, Nate Calzentoni (guitar\, vocals) &amp\; Mike Manu
 ele (bass).\nYou can check them out at http://gratefullyyours.net\nWednes
 day\, December 17Doors: 6pm/Show: 7pm$20 Suggested Donation
ATTACH;FMTTYPE=image/jpeg:https://kingstonhappenings.org/wp-content/upload
 s/2025/12/580841114_1483178126941078_2507170997112764940_n.jpg
CATEGORIES:@Featured,@Newsletter,Music,Nightlife and entertainment
LOCATION:Colony Woodstock NY\, 22 Rock City Rd\, Woodstock\, New York\, Uni
 ted States
GEO:42.0424924;-74.11799489999999
X-APPLE-STRUCTURED-LOCATION;VALUE=URI;X-ADDRESS=22 Rock City Rd\, Woodstock
 \, New York\, United States;X-APPLE-RADIUS=100;X-TITLE=Colony Woodstock NY
 :geo:42.0424924,-74.11799489999999
END:VEVENT
BEGIN:VTIMEZONE
TZID:America/New_York
X-LIC-LOCATION:America/New_York
BEGIN:STANDARD
DTSTART:20251102T010000
TZOFFSETFROM:-0400
TZOFFSETTO:-0500
TZNAME:EST
END:STANDARD
END:VTIMEZONE
END:VCALENDAR