BEGIN:VCALENDAR
VERSION:2.0
PRODID:-//wp-events-plugin.com//7.2.3.1//EN
TZID:America/New_York
X-WR-TIMEZONE:America/New_York
BEGIN:VEVENT
UID:152217@kingstonhappenings.org
DTSTART;TZID=America/New_York:20251122T190000
DTEND;TZID=America/New_York:20251122T223000
DTSTAMP:20251007T130032Z
URL:https://kingstonhappenings.org/events/godzilla-monster-double-feature-
 at-the-rosendale-theatre/
SUMMARY:Godzilla Monster Double Feature at The Rosendale Theatre!
DESCRIPTION:GODZILLA IS BACK!\n\nMOTHRA IS TOO!\n\nAND INTRODUCING “BATTR
 A” IN HIS ONLY KAIJU FILM!\n\nIT’S A GODZILLA MONSTER DOUBLE CREATURE 
 FEATURE!\n\nGodzilla vs. Mothra (1992) (Japanese Version. English subtitle
 s.) Mothra teams up with her adversary “Battra” in an ultimate 3-way b
 attle with Godzilla!\n\nGodzilla 2000 (1999) (USA version. English dubbed.
 ) Godzilla battles a UFO\, the mutated monster “Orga” and the Japanese
  military in this monster kick off to the Godzilla “Millennium” Series
 !\n\nAbout the Godzilla 2000 USA version: Even Japan’s TOHO Studios beli
 eves that the USA version of Godzilla 2000 is superior to the Japanese ver
 sion going so far as distributing the USA version themselves! While we hav
 e always shown the Japanese versions of Godzilla films in our Godzilla ser
 ies\, in this case we will be showing the USA English version.\n\nCome by 
 for all the monster action with BIG THEATRE SOUND on the BIG THEATRE SCREE
 N!
ATTACH;FMTTYPE=image/jpeg:https://kingstonhappenings.org/wp-content/upload
 s/2025/10/digital.jpg
CATEGORIES:@Featured,Movies
LOCATION:Rosendale Theater\, 408 Main St\, Rosendale\, New York\, 12472\, U
 nited States
GEO:41.8441401;-74.0821133
X-APPLE-STRUCTURED-LOCATION;VALUE=URI;X-ADDRESS=408 Main St\, Rosendale\, N
 ew York\, 12472\, United States;X-APPLE-RADIUS=100;X-TITLE=Rosendale Theat
 er:geo:41.8441401,-74.0821133
END:VEVENT
BEGIN:VTIMEZONE
TZID:America/New_York
X-LIC-LOCATION:America/New_York
BEGIN:STANDARD
DTSTART:20251102T010000
TZOFFSETFROM:-0400
TZOFFSETTO:-0500
TZNAME:EST
END:STANDARD
END:VTIMEZONE
END:VCALENDAR