BEGIN:VCALENDAR
VERSION:2.0
PRODID:-//wp-events-plugin.com//7.2.3.1//EN
TZID:America/New_York
X-WR-TIMEZONE:America/New_York
BEGIN:VEVENT
UID:152763@kingstonhappenings.org
DTSTART;TZID=America/New_York:20251219T180000
DTEND;TZID=America/New_York:20251219T200000
DTSTAMP:20251122T023213Z
URL:https://kingstonhappenings.org/events/gay-soccer-winter-fundraiser/
SUMMARY:Gay Soccer Winter Fundraiser
DESCRIPTION:Come hang out with the cuties from Hudson Valley Gay Soccer and
  help raise funds for the winter season! Grab a drink\, dance to vinyl spi
 ns by DJ Grand Format\, win dazzling raffle prizes\, and bid on opulent ex
 periences in the silent auction. Gay thanks to Rough Draft\, Assembly\, Su
 arez Brewing\, Birch\, Hudson Valley Pole\, Sorry Charlie\, NightSwim\, Cr
 ush Pleasure Shop\, The Little Rye Bakehouse\, Little Moon Tattoo\, Mustan
 gs and many\, many more.\nAbout Us: Hudson Valley Gay Soccer is a free rec
 reational\, inclusive space for individuals of all genders\, abilities\, a
 nd backgrounds to foster connection through community and body movement. 
CATEGORIES:@Featured
LOCATION:Rough Draft Bar & Books\, 82 John Street\, Kingston \, New York\, 
 12401\, United States
GEO:41.9334999;-74.02122020000002
X-APPLE-STRUCTURED-LOCATION;VALUE=URI;X-ADDRESS=82 John Street\, Kingston \
 , New York\, 12401\, United States;X-APPLE-RADIUS=100;X-TITLE=Rough Draft 
 Bar & Books:geo:41.9334999,-74.02122020000002
END:VEVENT
BEGIN:VTIMEZONE
TZID:America/New_York
X-LIC-LOCATION:America/New_York
BEGIN:STANDARD
DTSTART:20251102T010000
TZOFFSETFROM:-0400
TZOFFSETTO:-0500
TZNAME:EST
END:STANDARD
END:VTIMEZONE
END:VCALENDAR