BEGIN:VCALENDAR
VERSION:2.0
PRODID:-//wp-events-plugin.com//7.2.3.1//EN
TZID:America/New_York
X-WR-TIMEZONE:America/New_York
BEGIN:VEVENT
UID:152050@kingstonhappenings.org
DTSTART;TZID=America/New_York:20251006T180000
DTEND;TZID=America/New_York:20251208T200000
DTSTAMP:20251201T191444Z
URL:https://kingstonhappenings.org/events/gather-and-sing/
SUMMARY:Gather and Sing
DESCRIPTION:Gather &amp\; Sing is a brand new\, seasonal\, non-auditioned\,
  multi-generational community singing collective led by Elissa Maas Weinzi
 mmer. Singing together boosts our mood\, lowers stress levels\, and create
 s strong social bonds. Come build community resilience by gathering to sin
 g!\nAll ages and vocal abilities welcome!\nFor a complete list of guidelin
 es and information\, please visit www.voicebodyconnection.com\nGather &amp
 \; Sing is held on Mondays from 6-8pm for eight sessions\, on:\nMonday Oct
 ober 6\, 13\, 20\, November 3\, 10\, 17\, December 1 &amp\; 8.\n(no gather
 ing October 27 and November 24)\n*The final session on Monday December 8th
  is the Gather &amp\; Sing Social - family and friends are invited!\nIn ad
 dition to singing\, each session will include a gentle vocal and physical 
 warm-up\, activities to build connection and community\, and a spacious br
 eak.\nPlease register by Friday October 3rd
ATTACH;FMTTYPE=image/jpeg:https://kingstonhappenings.org/wp-content/upload
 s/2025/09/ElissaMaas.jpeg
CATEGORIES:@Featured,@Newsletter,Music
LOCATION:Athens Cultural Center\, 24 Second St.\, Athens\, NY\, United Stat
 es
GEO:42.26042;-73.809144
X-APPLE-STRUCTURED-LOCATION;VALUE=URI;X-ADDRESS=24 Second St.\, Athens\, NY
 \, United States;X-APPLE-RADIUS=100;X-TITLE=Athens Cultural Center:geo:42.
 26042,-73.809144
END:VEVENT
BEGIN:VTIMEZONE
TZID:America/New_York
X-LIC-LOCATION:America/New_York
BEGIN:DAYLIGHT
DTSTART:20250309T030000
TZOFFSETFROM:-0500
TZOFFSETTO:-0400
TZNAME:EDT
END:DAYLIGHT
BEGIN:STANDARD
DTSTART:20251102T010000
TZOFFSETFROM:-0400
TZOFFSETTO:-0500
TZNAME:EST
END:STANDARD
END:VTIMEZONE
END:VCALENDAR