BEGIN:VCALENDAR
VERSION:2.0
PRODID:-//wp-events-plugin.com//7.2.3.1//EN
TZID:America/New_York
X-WR-TIMEZONE:America/New_York
BEGIN:VEVENT
UID:151570@kingstonhappenings.org
DTSTART;TZID=America/New_York:20250830T140000
DTEND;TZID=America/New_York:20250830T160000
DTSTAMP:20250821T140039Z
URL:https://kingstonhappenings.org/events/gallery-talk-on-50-women-artists
 -of-the-historic-woodstock-art-colony/
SUMMARY:Gallery Talk on 50 Women Artists of the Historic Woodstock Art Colo
 ny
DESCRIPTION:Art Historian Bruce Weber will give a gallery talk on the Histo
 rical Society of Woodstock's current exhibition Making Her Mark: 50 Women
  Artists of the Historic Woodstock Art Colony.
ATTACH;FMTTYPE=image/jpeg:https://kingstonhappenings.org/wp-content/upload
 s/2025/08/DorisLeeUntitled.jpg
CATEGORIES:@Featured,Art,History
LOCATION:Historical Society of Woodstock\, 20 Comeau Drive\, Woodstock\, ny
 \, United States
GEO:42.039163;-74.124058
X-APPLE-STRUCTURED-LOCATION;VALUE=URI;X-ADDRESS=20 Comeau Drive\, Woodstock
 \, ny\, United States;X-APPLE-RADIUS=100;X-TITLE=Historical Society of Woo
 dstock:geo:42.039163,-74.124058
END:VEVENT
BEGIN:VTIMEZONE
TZID:America/New_York
X-LIC-LOCATION:America/New_York
BEGIN:DAYLIGHT
DTSTART:20250309T030000
TZOFFSETFROM:-0500
TZOFFSETTO:-0400
TZNAME:EDT
END:DAYLIGHT
END:VTIMEZONE
END:VCALENDAR