BEGIN:VCALENDAR
VERSION:2.0
PRODID:-//wp-events-plugin.com//7.2.3.1//EN
TZID:America/New_York
X-WR-TIMEZONE:America/New_York
BEGIN:VEVENT
UID:155042@kingstonhappenings.org
DTSTART;TZID=America/New_York:20260213T170000
DTEND;TZID=America/New_York:20260213T210000
DTSTAMP:20260209T163342Z
URL:https://kingstonhappenings.org/events/galentines-day-dinner-at-edgewoo
 d-restaurant-bar/
SUMMARY:Galentine's Day Dinner at Edgewood Restaurant + Bar
DESCRIPTION:Join us for Galentine's Day at Edgewood Restaurant + Bar!\nWhet
 her you’re gathering with lifelong friends or planning a stylish night o
 ut\, Galentine’s Day at Edgewood Restaurant + Bar is the perfect excuse 
 to dress up\, linger over great food\, and celebrate together in a beautif
 ul Hudson Valley setting.\n\n&nbsp\;\n\nEnjoy a thoughtfully curated prix-
 fixe menu for just $55 per person\, and a complimentary glass of champagne
  upon arrival to toast the women who make life sweeter.\n\n&nbsp\;\n\nDINN
 ER INCLUDES:\n\n 	$55 per person\n 	Complimentary bubbly\n 	3 course\, pri
 x-fixe meal\n\n&nbsp\;\n\nReservations recommended\, walk-ins welcome!\n\n
 Check out other Valentine's Day events at Hutton Brickyards.\n\n&nbsp\;\n\
 nVisit our two seasonal restaurants at Hutton Brickyards. Edgewood open No
 vember-April. River Pavilion open for the season May/2025!
ATTACH;FMTTYPE=image/jpeg:https://kingstonhappenings.org/wp-content/upload
 s/2026/01/hutton_brickyards_holidays-58-copy.jpg
CATEGORIES:@Featured,@Newsletter,Festivals and major community
 events,Restaurant promotions
LOCATION:EDGEWOOD RESTAURANT & BAR\, 132 Lindsey Ave\, KINGSTON\, NY\, 1240
 1\, United States
GEO:41.93003;-73.973736
X-APPLE-STRUCTURED-LOCATION;VALUE=URI;X-ADDRESS=132 Lindsey Ave\, KINGSTON\
 , NY\, 12401\, United States;X-APPLE-RADIUS=100;X-TITLE=EDGEWOOD RESTAURAN
 T & BAR:geo:41.93003,-73.973736
END:VEVENT
BEGIN:VTIMEZONE
TZID:America/New_York
X-LIC-LOCATION:America/New_York
BEGIN:STANDARD
DTSTART:20251102T010000
TZOFFSETFROM:-0400
TZOFFSETTO:-0500
TZNAME:EST
END:STANDARD
END:VTIMEZONE
END:VCALENDAR