BEGIN:VCALENDAR
VERSION:2.0
PRODID:-//wp-events-plugin.com//7.2.3.1//EN
TZID:America/New_York
X-WR-TIMEZONE:America/New_York
BEGIN:VEVENT
UID:153316@kingstonhappenings.org
DTSTART;TZID=America/New_York:20251231T180000
DTEND;TZID=America/New_York:20251231T180000
DTSTAMP:20251229T165019Z
URL:https://kingstonhappenings.org/events/gala-new-years-eve-dance-party/
SUMMARY:GALA NEW YEAR’S EVE DANCE PARTY
DESCRIPTION:a night to remember!Come ring in the New Year at the Ashokan Ce
 nter with great live dance music\, a sumptuous spread of late night snacks
 \, and a friendly\, fun-loving crowd! Music by Jay &amp\; Molly with Swing
 ology (swing\, contras and squares)\, Midnight on the Water (contras\, squ
 ares\, waltzes)\, Will Mentor (caller)\, Kevin Wimmer\, Luke Huval\, Ethan
  Moody (Cajun)\, and more to come!\nNo partner or prior experience require
 d. Cash bar featuring local beers and wines\, non-alcoholic beverages\, pl
 us free coffee\, tea\, lemonade\, and ice water all night long. A festive 
 night to remember!\nIf you’re already signed up for the New Year’s Wee
 kend Camp this dinner &amp\; dance are included.\nWant to sleep over in th
 e bunks? Lodging will become available in December (subject to availabilit
 y)\nSCHEDULE:\nDinner: 6 – 7 PM\nSing-a-long: 7 PM\nDancing: 7:15 PM
ATTACH;FMTTYPE=image/jpeg:https://kingstonhappenings.org/wp-content/upload
 s/2025/12/557056550_1277453107746070_2196087803236505361_n.jpg
CATEGORIES:@Featured,@Newsletter,Festivals and major community
 events,Music,Nightlife and entertainment
LOCATION:Ashokan Center\, 477 Beaverkill Rd\, Olivebridge\, NY\, 12461\, 
GEO:41.929319;-74.202116
X-APPLE-STRUCTURED-LOCATION;VALUE=URI;X-ADDRESS=477 Beaverkill Rd\, Olivebr
 idge\, NY\, 12461\, ;X-APPLE-RADIUS=100;X-TITLE=Ashokan Center:geo:41.9293
 19,-74.202116
END:VEVENT
BEGIN:VTIMEZONE
TZID:America/New_York
X-LIC-LOCATION:America/New_York
BEGIN:STANDARD
DTSTART:20251102T010000
TZOFFSETFROM:-0400
TZOFFSETTO:-0500
TZNAME:EST
END:STANDARD
END:VTIMEZONE
END:VCALENDAR