BEGIN:VCALENDAR
VERSION:2.0
PRODID:-//wp-events-plugin.com//7.2.3.1//EN
TZID:America/New_York
X-WR-TIMEZONE:America/New_York
BEGIN:VEVENT
UID:155351@kingstonhappenings.org
DTSTART;TZID=America/New_York:20260307T183000
DTEND;TZID=America/New_York:20260307T203000
DTSTAMP:20260302T202637Z
URL:https://kingstonhappenings.org/events/fundraiser-trivia/
SUMMARY:Fundraiser Trivia
DESCRIPTION:Looking for a fun and handcrafted Trivia Night?\n\nProve that y
 ou’re the champ of random knowledge!\nJoin us March 7th at 6:30pm for a 
 Fundraiser Trivia at 37 Greenkill Ave in Kingston.\n\nWe're asking for a $
 5 donation\, for the chance of winning some great prizes.\nYou're barely r
 isking more than your pride (and maybe a few brain cells).\n\nWe're also o
 ffering delicious lights snacks for purchase.\n\nBring your friends\, form
  a dream team\, or fly solo—either way you’ll laugh\, compete\, and ma
 ybe even walk away with a prize.\nMost importantly\, you’ll have a blast
  testing just how useful (or useless) all those fun facts you’ve been sa
 ving really are!\n#Trivia #TriviaNighy #KingstonNY #GermanChoir #TheGe
 rmanHostsTrivia\n\nTemporary membership ($5) required to purchase alcohol 
 if not accompanied by an active member
ATTACH;FMTTYPE=image/jpeg:https://kingstonhappenings.org/wp-content/upload
 s/2026/02/Screenshot-2026-02-15-191437.png
CATEGORIES:@Featured,@Newsletter,Community,Nightlife and
 entertainment,Sports and recreation
LOCATION:Kingston Maennerchor and Damenchor\, 37 Greenkill Ave\, Kingston\,
  New York\, 12401\, United States
GEO:41.928148;-74.00405490000003
X-APPLE-STRUCTURED-LOCATION;VALUE=URI;X-ADDRESS=37 Greenkill Ave\, Kingston
 \, New York\, 12401\, United States;X-APPLE-RADIUS=100;X-TITLE=Kingston Ma
 ennerchor and Damenchor:geo:41.928148,-74.00405490000003
END:VEVENT
BEGIN:VTIMEZONE
TZID:America/New_York
X-LIC-LOCATION:America/New_York
BEGIN:STANDARD
DTSTART:20251102T010000
TZOFFSETFROM:-0400
TZOFFSETTO:-0500
TZNAME:EST
END:STANDARD
END:VTIMEZONE
END:VCALENDAR