BEGIN:VCALENDAR
VERSION:2.0
PRODID:-//wp-events-plugin.com//7.2.3.1//EN
TZID:America/New_York
X-WR-TIMEZONE:America/New_York
BEGIN:VEVENT
UID:152001@kingstonhappenings.org
DTSTART;TZID=America/New_York:20250926T220000
DTEND;TZID=America/New_York:20250926T220000
DTSTAMP:20250922T145212Z
URL:https://kingstonhappenings.org/events/friday-night-fever-presents-dj-j
 ams-bond/
SUMMARY:FRIDAY NIGHT FEVER PRESENTS DJ JAMS BOND
DESCRIPTION:Born David Cruz\, Jams Bond is a DJ whose effervescent performa
 nces and diverse musical palette captivate audiences from the Hudson Valle
 y to NYC and beyond. With residencies at venues like Bembe and Nublu\, and
  a knack for seamlessly blending genres from house and techno to hip hop t
 o afro-latin rhythms\, he ensures every party is an unforgettable experien
 ce.\nFrom his roots in the Bronx to his role in shaping Kingston's emergin
 g dance scene with his electronic music and art party "Kingston Techno\," 
 Jams Bond's passion for music cultivated since childhood shines through in
  every set\, promising a journey through sound that's both exhilarating an
 d eclectic.\nhttps://jamsbond.com/
ATTACH;FMTTYPE=image/jpeg:https://kingstonhappenings.org/wp-content/upload
 s/2025/09/531572991_1401695058422719_2460775370317510620_n.jpg
CATEGORIES:@Featured,@Newsletter,Music,Nightlife and entertainment
LOCATION:Colony Woodstock NY\, 22 Rock City Rd\, Woodstock\, New York\, Uni
 ted States
GEO:42.0424924;-74.11799489999999
X-APPLE-STRUCTURED-LOCATION;VALUE=URI;X-ADDRESS=22 Rock City Rd\, Woodstock
 \, New York\, United States;X-APPLE-RADIUS=100;X-TITLE=Colony Woodstock NY
 :geo:42.0424924,-74.11799489999999
END:VEVENT
BEGIN:VTIMEZONE
TZID:America/New_York
X-LIC-LOCATION:America/New_York
BEGIN:DAYLIGHT
DTSTART:20250309T030000
TZOFFSETFROM:-0500
TZOFFSETTO:-0400
TZNAME:EDT
END:DAYLIGHT
END:VTIMEZONE
END:VCALENDAR