BEGIN:VCALENDAR
VERSION:2.0
PRODID:-//wp-events-plugin.com//7.2.3.1//EN
TZID:America/New_York
X-WR-TIMEZONE:America/New_York
BEGIN:VEVENT
UID:151624@kingstonhappenings.org
DTSTART;TZID=America/New_York:20251003T140000
DTEND;TZID=America/New_York:20251003T160000
DTSTAMP:20250828T011619Z
URL:https://kingstonhappenings.org/events/friday-festivities-cider-and-app
 le-press/
SUMMARY:Friday Festivities: Cider and Apple Press
DESCRIPTION:Stop by the Senate House State Historic Site grounds on Friday\
 , October 3\, from 2:00pm-4:00pm\, and step into the sweet\, crisp world o
 f apple cider with this hands-on\, family-friendly activity!\n\nVisitors c
 an try their hand at using a hand-cranked cider press and learn fun facts 
 about apple harvesting\, cider-making traditions and how communities relie
 d on cider as a staple beverage\, just like early American families did ea
 ch fall. This family friendly drop-in activity is free and weather depende
 nt.\n\nhttps://www.facebook.com/share/1GBp6NMRsK/
ATTACH;FMTTYPE=image/jpeg:https://kingstonhappenings.org/wp-content/upload
 s/2025/08/Senate_House_35.jpg
CATEGORIES:@Featured,For kids
LOCATION:Senate House State Historic Site\, 296 Fair St\, Kingston\, NY\, 1
 2401\, United States
GEO:41.934355;-74.018791
X-APPLE-STRUCTURED-LOCATION;VALUE=URI;X-ADDRESS=296 Fair St\, Kingston\, NY
 \, 12401\, United States;X-APPLE-RADIUS=100;X-TITLE=Senate House State His
 toric Site:geo:41.934355,-74.018791
END:VEVENT
BEGIN:VTIMEZONE
TZID:America/New_York
X-LIC-LOCATION:America/New_York
BEGIN:DAYLIGHT
DTSTART:20250309T030000
TZOFFSETFROM:-0500
TZOFFSETTO:-0400
TZNAME:EDT
END:DAYLIGHT
END:VTIMEZONE
END:VCALENDAR