BEGIN:VCALENDAR
VERSION:2.0
PRODID:-//wp-events-plugin.com//7.2.3.1//EN
TZID:America/New_York
X-WR-TIMEZONE:America/New_York
BEGIN:VEVENT
UID:156422@kingstonhappenings.org
DTSTART;TZID=America/New_York:20260424T000000
DTEND;TZID=America/New_York:20260424T200000
DTSTAMP:20260422T142510Z
URL:https://kingstonhappenings.org/events/friday-family-film-night-2/
SUMMARY:FRIDAY FAMILY FILM NIGHT
DESCRIPTION:Cat is a solitary animal\, but as its home is devastated by a g
 reat flood\, he finds refuge on a boat populated by various species\, and 
 will have to team up with them despite their differences.\n\nHint hint
ATTACH;FMTTYPE=image/jpeg:https://kingstonhappenings.org/wp-content/upload
 s/2026/04/1000019076.jpg
CATEGORIES:@Featured,@Newsletter
LOCATION:A.J. Williams-Myers African Roots Center\, 43 Gill St. \, Kingston
 \, NY\, 12401\, United States
GEO:41.927037;-73.997361
X-APPLE-STRUCTURED-LOCATION;VALUE=URI;X-ADDRESS=43 Gill St. \, Kingston\, N
 Y\, 12401\, United States;X-APPLE-RADIUS=100;X-TITLE=A.J. Williams-Myers A
 frican Roots Center:geo:41.927037,-73.997361
END:VEVENT
BEGIN:VTIMEZONE
TZID:America/New_York
X-LIC-LOCATION:America/New_York
BEGIN:DAYLIGHT
DTSTART:20260308T030000
TZOFFSETFROM:-0500
TZOFFSETTO:-0400
TZNAME:EDT
END:DAYLIGHT
END:VTIMEZONE
END:VCALENDAR