BEGIN:VCALENDAR
VERSION:2.0
PRODID:-//wp-events-plugin.com//7.2.3.1//EN
TZID:America/New_York
X-WR-TIMEZONE:America/New_York
BEGIN:VEVENT
UID:152587@kingstonhappenings.org
DTSTART;TZID=America/New_York:20251113T160000
DTEND;TZID=America/New_York:20260607T190000
DTSTAMP:20260413T134149Z
URL:https://kingstonhappenings.org/events/free-walk-in-health-care-clinic/
SUMMARY:FREE Walk-in Health Care Clinic
DESCRIPTION:Walk-in event for FREE health care and wellness services\, acce
 ssible to all. No appointment necessary\; first come\, first served. Sign-
 up begins at 3:30 p.m. Servcies include Acupuncture\, Chiropractic\, Crani
 osacral\, Heart Healing\, Hypnotherapy\, Massage\, Reiki\, and others. *No
 t all modalities available at every event. Visit hchrny.org for more detai
 ls. Email info@hchrny.org with questions.
ATTACH;FMTTYPE=image/jpeg:https://kingstonhappenings.org/wp-content/upload
 s/2025/11/Fuller-Building-Oct-2019-01_crop-scaled-1.jpg
CATEGORIES:@Featured,@Newsletter,Health, fitness, yoga, martial arts and
 other classes
LOCATION:Fuller Building\, 45 Pine Grove Ave\, Kingston \, New York\, 12401
 \, United States
GEO:41.926842;-74.00183340000001
X-APPLE-STRUCTURED-LOCATION;VALUE=URI;X-ADDRESS=45 Pine Grove Ave\, Kingsto
 n \, New York\, 12401\, United States;X-APPLE-RADIUS=100;X-TITLE=Fuller Bu
 ilding:geo:41.926842,-74.00183340000001
END:VEVENT
BEGIN:VTIMEZONE
TZID:America/New_York
X-LIC-LOCATION:America/New_York
BEGIN:STANDARD
DTSTART:20251102T010000
TZOFFSETFROM:-0400
TZOFFSETTO:-0500
TZNAME:EST
END:STANDARD
BEGIN:DAYLIGHT
DTSTART:20260308T030000
TZOFFSETFROM:-0500
TZOFFSETTO:-0400
TZNAME:EDT
END:DAYLIGHT
END:VTIMEZONE
END:VCALENDAR