BEGIN:VCALENDAR
VERSION:2.0
PRODID:-//wp-events-plugin.com//7.2.3.1//EN
TZID:America/New_York
X-WR-TIMEZONE:America/New_York
BEGIN:VEVENT
UID:156394@kingstonhappenings.org
DTSTART;TZID=America/New_York:20260422T100000
DTEND;TZID=America/New_York:20260422T130000
DTSTAMP:20260420T164319Z
URL:https://kingstonhappenings.org/events/free-narcan-training/
SUMMARY:FREE Narcan Training
DESCRIPTION:Representatives from Catholic Charities will be at the library 
 to offer FREE Narcan training to all who are interested. The training take
 s about 15 minutes. Drop-in any time between 10am – 1pm to receive instr
 uction on this life-saving medication that can reverse the effects of an o
 pioid overdose. No registration is needed.
ATTACH;FMTTYPE=image/jpeg:https://kingstonhappenings.org/wp-content/upload
 s/2026/04/654202401_1354834053354253_5399754167084083212_n.jpg
CATEGORIES:@Featured,@Newsletter,@Weekly Pick,Community,Educational
 classes and lectures
LOCATION:Kingston Library\, 61 Crown St\, Kingston\, NY\, 12401\, United St
 ates
GEO:41.934381;-74.021982
X-APPLE-STRUCTURED-LOCATION;VALUE=URI;X-ADDRESS=61 Crown St\, Kingston\, NY
 \, 12401\, United States;X-APPLE-RADIUS=100;X-TITLE=Kingston Library:geo:4
 1.934381,-74.021982
END:VEVENT
BEGIN:VTIMEZONE
TZID:America/New_York
X-LIC-LOCATION:America/New_York
BEGIN:DAYLIGHT
DTSTART:20260308T030000
TZOFFSETFROM:-0500
TZOFFSETTO:-0400
TZNAME:EDT
END:DAYLIGHT
END:VTIMEZONE
END:VCALENDAR