BEGIN:VCALENDAR
VERSION:2.0
PRODID:-//wp-events-plugin.com//7.2.3.1//EN
TZID:America/New_York
X-WR-TIMEZONE:America/New_York
BEGIN:VEVENT
UID:153068@kingstonhappenings.org
DTSTART;TZID=America/New_York:20251214T100000
DTEND;TZID=America/New_York:20251214T170000
DTSTAMP:20251209T143930Z
URL:https://kingstonhappenings.org/events/free-holiday-poscard-printing-ac
 tivity/
SUMMARY:Free Holiday Poscard Printing Activity!
DESCRIPTION:Get into the holiday spirit at The Department of Things with ou
 r FREE Print-Your-Own Holiday Postcard Activity!\n\nHoliday Card Printing\
 nSunday December 14\n11am-5pm\nThe Department of Things\n115 Abeel St King
 ston\, NY\nPLUS! The TDoT Holiday Pop-up Shop is now open! We’ve transfo
 rmed our studio into more shop space for all your gifting needs. Come back
  and take a look when you visit! TDoT is open every day 10-5 until Xmas.\n
 Pop in and check out our great selection of stocking stuffers for creative
 s!\n\n&nbsp\;
ATTACH;FMTTYPE=image/jpeg:https://kingstonhappenings.org/wp-content/upload
 s/2025/12/postcards.jpg
CATEGORIES:@Featured,Art,Community,Educational classes and lectures,For
 kids,For seniors
LOCATION:The Department of Things\, 115 Abeel St. \, Kingston\, NY\, 12401\
 , United States
GEO:41.916709;-73.987129
X-APPLE-STRUCTURED-LOCATION;VALUE=URI;X-ADDRESS=115 Abeel St. \, Kingston\,
  NY\, 12401\, United States;X-APPLE-RADIUS=100;X-TITLE=The Department of T
 hings:geo:41.916709,-73.987129
END:VEVENT
BEGIN:VTIMEZONE
TZID:America/New_York
X-LIC-LOCATION:America/New_York
BEGIN:STANDARD
DTSTART:20251102T010000
TZOFFSETFROM:-0400
TZOFFSETTO:-0500
TZNAME:EST
END:STANDARD
END:VTIMEZONE
END:VCALENDAR