BEGIN:VCALENDAR
VERSION:2.0
PRODID:-//wp-events-plugin.com//7.2.3.1//EN
TZID:America/New_York
X-WR-TIMEZONE:America/New_York
BEGIN:VEVENT
UID:152126@kingstonhappenings.org
DTSTART;TZID=America/New_York:20251009T160000
DTEND;TZID=America/New_York:20251009T190000
DTSTAMP:20251007T130831Z
URL:https://kingstonhappenings.org/events/free-hchr-walk-in-clinic-2/
SUMMARY:Free HCHR Walk-in Clinic
DESCRIPTION:Now at a new location\, The Fuller Building\, adjacent to the Y
 MCA. Sign in starts at 3:30 p.m. Enjoy safe Complementary Alternative Medi
 cine\, such as Acupuncture\, Massage\, Chiropractic\, Craniosacral\, Heart
  Healing\, Emotion/Body Code\, Hypnotherapy\, Reiki\, and others. *Not all
  modalities available at each location or at every clinic.
ATTACH;FMTTYPE=image/jpeg:https://kingstonhappenings.org/wp-content/upload
 s/2025/10/Massage.png
CATEGORIES:@Featured,@Newsletter,Health, fitness, yoga, martial arts and
 other classes
LOCATION:Fuller Building\, 45 Pine Grove Ave\, Kingston \, New York\, 12401
 \, United States
GEO:41.926842;-74.00183340000001
X-APPLE-STRUCTURED-LOCATION;VALUE=URI;X-ADDRESS=45 Pine Grove Ave\, Kingsto
 n \, New York\, 12401\, United States;X-APPLE-RADIUS=100;X-TITLE=Fuller Bu
 ilding:geo:41.926842,-74.00183340000001
END:VEVENT
BEGIN:VTIMEZONE
TZID:America/New_York
X-LIC-LOCATION:America/New_York
BEGIN:DAYLIGHT
DTSTART:20250309T030000
TZOFFSETFROM:-0500
TZOFFSETTO:-0400
TZNAME:EDT
END:DAYLIGHT
END:VTIMEZONE
END:VCALENDAR