BEGIN:VCALENDAR
VERSION:2.0
PRODID:-//wp-events-plugin.com//7.2.3.1//EN
TZID:America/New_York
X-WR-TIMEZONE:America/New_York
BEGIN:VEVENT
UID:153143@kingstonhappenings.org
DTSTART;TZID=America/New_York:20251219T193000
DTEND;TZID=America/New_York:20251219T193000
DTSTAMP:20251222T135255Z
URL:https://kingstonhappenings.org/events/free-film-the-muppet-christmas-c
 arol-1992/
SUMMARY:FREE FILM: The Muppet Christmas Carol (1992)
DESCRIPTION:The Muppets’ version of the Dickens holiday classic about a m
 iser who’s visited by three ghosts features Kermit the Frog as the penny
 -pincher’s hardworking and loyal employee.\n\nDoors open 30 min prior\; 
 Free tickets available at the door!\n\nCurated by Kingston Film Foundation
 \, and made possible with support from Marshall+Sterling\, Radio Kingston\
 , Herzog’s\, Woodstock Film Festival\, New York Theatre Organ Society\, 
 and Poughkeepsie Public Library District.
ATTACH;FMTTYPE=image/jpeg:https://kingstonhappenings.org/wp-content/upload
 s/2025/12/web-muppet-xmas-990x792-1.jpg
CATEGORIES:@Featured,@Newsletter,Movies,Nightlife and entertainment
LOCATION:Ulster Performing Arts Center (UPAC)\, 601 Broadway\, Kingston\, N
 ew York\, 12401\, United States
GEO:41.92931799999999;-74.004142
X-APPLE-STRUCTURED-LOCATION;VALUE=URI;X-ADDRESS=601 Broadway\, Kingston\, N
 ew York\, 12401\, United States;X-APPLE-RADIUS=100;X-TITLE=Ulster Performi
 ng Arts Center (UPAC):geo:41.92931799999999,-74.004142
END:VEVENT
BEGIN:VTIMEZONE
TZID:America/New_York
X-LIC-LOCATION:America/New_York
BEGIN:STANDARD
DTSTART:20251102T010000
TZOFFSETFROM:-0400
TZOFFSETTO:-0500
TZNAME:EST
END:STANDARD
END:VTIMEZONE
END:VCALENDAR