BEGIN:VCALENDAR
VERSION:2.0
PRODID:-//wp-events-plugin.com//7.2.3.1//EN
TZID:America/New_York
X-WR-TIMEZONE:America/New_York
BEGIN:VEVENT
UID:155359@kingstonhappenings.org
DTSTART;TZID=America/New_York:20260222T150000
DTEND;TZID=America/New_York:20260222T150000
DTSTAMP:20260223T125016Z
URL:https://kingstonhappenings.org/events/free-film-disney-pixars-soul-202
 0/
SUMMARY:FREE FILM: Disney Pixar’s SOUL (2020)
DESCRIPTION:What is it that makes you…YOU? Pixar Animation Studios’ all
 -new feature film SOUL introduces Joe Gardner (voice of Jamie Foxx) – a 
 middle-school band teacher who gets the chance of a lifetime to play at th
 e best jazz club in town. But one small misstep takes him from the streets
  of New York City to The Great Before – a fantastical place where new so
 uls get their personalities\, quirks and interests before they go to Earth
 . Determined to return to his life\, Joe teams up with a precocious soul\,
  22 (voice of Tina Fey)\, who has never understood the appeal of the human
  experience. As Joe desperately tries to show 22 what’s great about livi
 ng\, he may just discover the answers to some of life’s most important q
 uestions.\n\nALL TICKETS ARE FREE – AVAILABLE AT THE DOOR!\nDoors open 3
 0 minutes prior.\n\nMade possible with the support from Marshall+Sterling\
 , Radio Kingston\, Herzog’s\, Woodstock Film Festival\, New York Theatre
  Organ Society\, and Poughkeepsie Public Library District.
ATTACH;FMTTYPE=image/jpeg:https://kingstonhappenings.org/wp-content/upload
 s/2026/02/web-soul-free-film-1-990x792-1-e1771263187349.jpg
CATEGORIES:@Featured,@Newsletter,Community,For kids,Movies,Nightlife and
 entertainment
LOCATION:Ulster Performing Arts Center (UPAC)\, 601 Broadway\, Kingston\, N
 ew York\, 12401\, United States
GEO:41.92931799999999;-74.004142
X-APPLE-STRUCTURED-LOCATION;VALUE=URI;X-ADDRESS=601 Broadway\, Kingston\, N
 ew York\, 12401\, United States;X-APPLE-RADIUS=100;X-TITLE=Ulster Performi
 ng Arts Center (UPAC):geo:41.92931799999999,-74.004142
END:VEVENT
BEGIN:VTIMEZONE
TZID:America/New_York
X-LIC-LOCATION:America/New_York
BEGIN:STANDARD
DTSTART:20251102T010000
TZOFFSETFROM:-0400
TZOFFSETTO:-0500
TZNAME:EST
END:STANDARD
END:VTIMEZONE
END:VCALENDAR