BEGIN:VCALENDAR
VERSION:2.0
PRODID:-//wp-events-plugin.com//7.2.3.1//EN
TZID:America/New_York
X-WR-TIMEZONE:America/New_York
BEGIN:VEVENT
UID:153335@kingstonhappenings.org
DTSTART;TZID=America/New_York:20260124T080000
DTEND;TZID=America/New_York:20260124T140000
DTSTAMP:20260126T155224Z
URL:https://kingstonhappenings.org/events/free-electronics-recycling-pop-u
 p-event-2026-01-24/
SUMMARY:Free Electronics Recycling Pop-Up Event
DESCRIPTION:The UCRRA will be hosting two\, one-day only\, FREE Electron
 ics Recycling pop-up events on Saturday\, January 10th 2026 and Saturda
 y\, January 24th\, 2026. These events will take place in the parking lot 
 adjacent to the Main Office\, at 999 Flatbush Road\, Kingston\, NY 12401\
 , from 8 AM to 2 PM.\n\nThis is your last chance to recycle electronics 
 before our regular program resumes in APRIL 2026.\n\n\nAccepting: Telev
 isions (Cathode Ray Tube\, Non CRTs)\, Cable/Satellite Receivers\, Digital
  Converter Boxes\, Cellphones\, Office Phones\, Phone Chargers\, Computers
 \, Monitors\, Laptops\, Computer Peripherals (keyboards\, electronic mouse
 /pointing devices)\, Small Scale Servers\, Printer/Copy/Fax Machines\,  D
 igital/Video Cameras\, Radios\, Digital Music Devices\, VHS/DVD Players\, 
 Video Games Consoles\,  GPS or Navigation Devices and all wires or cables
  associated with these devices.\n\nNot Accepting: Batteries (except when 
 part of a computer)\, Disassembled TVs/Computers\, CDs\, DVDs\, VHS tapes\
 , Freon Appliances (Air Conditioners\, Dehumidifiers\, Refrigerators)\, Ga
 s Powered Equipment\, Large/Small Kitchen Appliances (Stoves\, Blenders\, 
 Fans\, Coffee Makers\, Toaster Ovens/Microwaves\, Vacuums)\, Any Type of L
 ighting\, Lightbulbs\, Smoke/Carbon Detectors\, Medical Devices\, Typewrit
 ers\, Calculators\, Cash Registers\, Thermostats\, Motor Vehicle Parts\, a
 nd Industrial/Commercial Electronic Units.\n\n\nInstructions\n\n\n 	The ac
 cepted items listed above describe what is considered eligible devices und
 er the NYS Electronics Recycling Act. Do not bring the unaccepted items 
 listed above\, which many not be a complete list. Contact the Recycling Ho
 tline with any questions (845) 336-3336 if you have any questions about el
 igible items.\n 	If you have a large quantity of e-waste\, please contact 
 us at (845) 336-0600\; Mon – Fri 7:30 AM – 3:30 PM to schedule an appo
 intment.\n 	Box-up small items for easy drop-off.\n 	Be careful not to bre
 ak any glass during transport. Devices with shattered glass\, disassembled
  components\, etc. may not be accepted.\n\n
ATTACH;FMTTYPE=image/jpeg:https://kingstonhappenings.org/wp-content/upload
 s/2025/12/Jan-e-waste-pop-up-Facebook-Cover.png
CATEGORIES:@Featured,@Newsletter,Community
LOCATION:Ulster County Resource Recovery Agency\, 999 Flatbush Road\, Kings
 ton\, New York\, United States
GEO:41.9776271;-73.9667604
X-APPLE-STRUCTURED-LOCATION;VALUE=URI;X-ADDRESS=999 Flatbush Road\, Kingsto
 n\, New York\, United States;X-APPLE-RADIUS=100;X-TITLE=Ulster County Reso
 urce Recovery Agency:geo:41.9776271,-73.9667604
END:VEVENT
BEGIN:VTIMEZONE
TZID:America/New_York
X-LIC-LOCATION:America/New_York
BEGIN:STANDARD
DTSTART:20251102T010000
TZOFFSETFROM:-0400
TZOFFSETTO:-0500
TZNAME:EST
END:STANDARD
END:VTIMEZONE
END:VCALENDAR