BEGIN:VCALENDAR
VERSION:2.0
PRODID:-//wp-events-plugin.com//7.2.3.1//EN
TZID:America/New_York
X-WR-TIMEZONE:America/New_York
BEGIN:VEVENT
UID:152950@kingstonhappenings.org
DTSTART;TZID=America/New_York:20251129T110000
DTEND;TZID=America/New_York:20251129T150000
DTSTAMP:20251125T215813Z
URL:https://kingstonhappenings.org/events/free-community-reiki-clinic-4/
SUMMARY:FREE. Community Reiki Clinic
DESCRIPTION:FREE REIKI CLINIC\, no payment\, no tipping\, no donation. Pay 
 it forward to the church or through a random act of kindness to all living
  things. Prepare for 20 minutes of healing on tables.  Dress comfortably 
 if possible.   Walk-ins only\, please. We are on the altar of the Sanctu
 ary with our tables and goodwill.  All your healers are trained and certi
 fied Reiki Masters by Lorry Salluzzi Sensei.  You will not wait more than
  20 minutes for your personalized session. Please text me at 516-708-5213 
 if you have any questions.\n\nThere is also a lovely craft fair in the bui
 lding to help make our event even more festive for all of us.\n\nThank you
 \,\n\nLorry\n\nText:  516-708-5213\n\nwww.reikimastersensei.com
ATTACH;FMTTYPE=image/jpeg:https://kingstonhappenings.org/wp-content/upload
 s/2025/11/Sanctuary-of-old-dutch-church-1.jpeg
CATEGORIES:@Featured,@Newsletter,Festivals and major community
 events,Health, fitness, yoga, martial arts and other classes
LOCATION:Old Dutch Church\, 272 Wall St\, Kingston\, NY\, 12401\, United St
 ates
GEO:41.932863;-74.018839
X-APPLE-STRUCTURED-LOCATION;VALUE=URI;X-ADDRESS=272 Wall St\, Kingston\, NY
 \, 12401\, United States;X-APPLE-RADIUS=100;X-TITLE=Old Dutch Church:geo:4
 1.932863,-74.018839
END:VEVENT
BEGIN:VTIMEZONE
TZID:America/New_York
X-LIC-LOCATION:America/New_York
BEGIN:STANDARD
DTSTART:20251102T010000
TZOFFSETFROM:-0400
TZOFFSETTO:-0500
TZNAME:EST
END:STANDARD
END:VTIMEZONE
END:VCALENDAR