BEGIN:VCALENDAR
VERSION:2.0
PRODID:-//wp-events-plugin.com//7.2.3.1//EN
TZID:America/New_York
X-WR-TIMEZONE:America/New_York
BEGIN:VEVENT
UID:156429@kingstonhappenings.org
DTSTART;TZID=America/New_York:20260502T100000
DTEND;TZID=America/New_York:20260502T180000
DTSTAMP:20260423T124612Z
URL:https://kingstonhappenings.org/events/free-comic-book-day/
SUMMARY:Free Comic Book Day!
DESCRIPTION:Free Comic Book Day is coming up on Saturday\, May 2!! (And due
  to changes in the comic industry in the last year\, some publishers are c
 alling it Comics Giveaway Day instead.)\nWe'll be open from 10am–6pm\, s
 o come on by to get some FREE COMICS from all of your favorite publishers.
  It's a great way to read unique stories from series you love\, and also t
 o try out some new series! We'll have comics for all ages.\n\nAll customer
 s are entitled to 3 free comics each\; or one of as many titles as you wan
 t with purchase of $5+\; supplies limited.\n\nWe will also have:\n* Tradin
 g card game giveaways!\n* Back issues sale! Buy one\, get one on Issues un
 der $10 - Help us clear out space for new comics!\n* Game demos!\n* New Wo
 rld's End merch (including hats and hoodies)!\n* Other in-store fun and ac
 tivities!\n\nAll events will be at World's End Comics &amp\; Games\, 319 W
 all Street in Kingston\, NY\n
ATTACH;FMTTYPE=image/jpeg:https://kingstonhappenings.org/wp-content/upload
 s/2026/04/FREE-COMIC-BOOK-DAY-COMIC-GIVEAWAY-DAY-2.png
CATEGORIES:@Featured,Community,For kids
LOCATION:World's End Comics\, 319 Wall St.\, KINGSTON\, NY\, 12401\, United
  States
GEO:41.934516;-74.020327
X-APPLE-STRUCTURED-LOCATION;VALUE=URI;X-ADDRESS=319 Wall St.\, KINGSTON\, N
 Y\, 12401\, United States;X-APPLE-RADIUS=100;X-TITLE=World's End Comics:ge
 o:41.934516,-74.020327
END:VEVENT
BEGIN:VTIMEZONE
TZID:America/New_York
X-LIC-LOCATION:America/New_York
BEGIN:DAYLIGHT
DTSTART:20260308T030000
TZOFFSETFROM:-0500
TZOFFSETTO:-0400
TZNAME:EDT
END:DAYLIGHT
END:VTIMEZONE
END:VCALENDAR