BEGIN:VCALENDAR
VERSION:2.0
PRODID:-//wp-events-plugin.com//7.2.3.1//EN
TZID:America/New_York
X-WR-TIMEZONE:America/New_York
BEGIN:VEVENT
UID:152940@kingstonhappenings.org
DTSTART;TZID=America/New_York:20251206T190000
DTEND;TZID=America/New_York:20251206T220000
DTSTAMP:20251201T191450Z
URL:https://kingstonhappenings.org/events/franco-shah-madison/
SUMMARY:Franco/Shah/Madison
DESCRIPTION:Jazz power trio (sounds like an oxymoron). The best players\, a
 s always.\n\nLuke Franco – guitar\n\nTarik Shah – bass\n\nJimmy Madiso
 n – drums\n\n&nbsp\;\n\nOur last show of the season\, except for NYE wit
 h Teri Roiger Quartet.\n\nGet your jazz\, duck and good vibe fix before it
 ’s too late.\n\nSuggested $20 donation for music\n\nReservations are rec
 ommended – call 845-687-NERD (6373)
ATTACH;FMTTYPE=image/jpeg:https://kingstonhappenings.org/wp-content/upload
 s/2025/11/2025.12.06_Franco.jpg
CATEGORIES:@Featured,@Newsletter,Music
LOCATION:Lydia's Cafe\, 7 Old U.S. 209\, Stone Ridge\, New York\, United St
 ates
GEO:41.8306145;-74.17658890000001
X-APPLE-STRUCTURED-LOCATION;VALUE=URI;X-ADDRESS=7 Old U.S. 209\, Stone Ridg
 e\, New York\, United States;X-APPLE-RADIUS=100;X-TITLE=Lydia's Cafe:geo:4
 1.8306145,-74.17658890000001
END:VEVENT
BEGIN:VTIMEZONE
TZID:America/New_York
X-LIC-LOCATION:America/New_York
BEGIN:STANDARD
DTSTART:20251102T010000
TZOFFSETFROM:-0400
TZOFFSETTO:-0500
TZNAME:EST
END:STANDARD
END:VTIMEZONE
END:VCALENDAR