BEGIN:VCALENDAR
VERSION:2.0
PRODID:-//wp-events-plugin.com//7.2.3.1//EN
TZID:America/New_York
X-WR-TIMEZONE:America/New_York
BEGIN:VEVENT
UID:153263@kingstonhappenings.org
DTSTART;TZID=America/New_York:20260120T180000
DTEND;TZID=America/New_York:20260120T210000
DTSTAMP:20260119T162802Z
URL:https://kingstonhappenings.org/events/four-day-class-screen-printing-1
 01-with-olga-joan-nps-2026-01-20/
SUMMARY:Four Day Class - Screen Printing 101 with Olga Joan (NPS)
DESCRIPTION:4 Tuesdays\nJanuary 6\, 13\, 20\, 27 (Snow day February 3rd)\n6
 :00 - 9:00 pm\n\nAges 16 and Up\n\nPrice: $395\n\nDuring our workshop stud
 ents will be taken through the basic process of screen-printing on fabric.
  They will be taught to coat and expose a screen using emulsion and an exp
 osure unit\,and how to print with water-based inks to make their own origi
 nal beautiful prints.We will focus on placement printing with up to 2 scre
 ens if students would like to do a 2 colour print.\n\nWe will also discuss
  repeat and yardage printing as information only.The idea here is to focus
  on learning new skills\, whilst creating an end-product\, learning and ga
 ining knowledge in the process is key to last a lifetime.\n\nAll materials
  are included.\n\nSchedule for Screen Printing 101:\n\nPrior to class\, it
  would be good that the students have an idea of what artwork they want to
  create. That students are ready to dive into week 1.\n\nWeek 1 Screen pr
 inting intro\, art creation and coating screens.(At Neighborhood Print Stu
 dio)\n\nWeek 2 Artwork ready and expose screens.(At Neighborhood Print Stu
 dio)\n\nWeek 3 Mixing ink and beginning to print. (At Olga Joan Atelier)\n
 \nWeek 4 Continue to print and advice on how to create a final print produ
 ct.(At Olga Joan Atelier)\n\nOlga Joan Atelier\n\n245 Wall Street\n\nKings
 ton\, NY 12401\n\nParking: When parking at Neighborhood Print Studio plea
 se park on either Iwo Jima Lane or Cedar Street. Parking that is located i
 n front of the Neighborhood Print Studio are for residents living in the P
 ajama Factory.\n\n--------------------------\n\nPlease register at least a
  week in advance to guarantee your spot. Scholarship availability closes 2
  weeks prior to the start of class.\n\n-----------------------------------
 ------\n\nWe believe in access to art education for all. It takes the whol
 e community to generate the equity our pay-what-you-can tuition generates.
  Behind the scenes\, we work to bridge the financial gap between what our 
 students can pay and what we need to sustain our programs. Please consider
  carefully before you use our discount codes.\n\nScholarship Codes:\nFor 2
 5% discount use code "25OFF"\nFor 50% discount use code "50OFF"\nFor 75% d
 iscount use code "75OFF"\n\nThis economic justice map from The Sliding Sc
 ale: A Tool of Economic Justice by Alexis J. Cunningfolk is useful to ass
 ess where you may fall on the financial spectrum of pay what you can.\n\nT
 o request 100% off tuition\, please contact chris@mkad.art
ATTACH;FMTTYPE=image/jpeg:https://kingstonhappenings.org/wp-content/upload
 s/2025/12/Four-Day-Class-Screen-Printing-101-with-Olga-Joan-NPS.jpeg
CATEGORIES:@Newsletter,Art,Educational classes and lectures
LOCATION:Midtown Kingston Arts District and the D.R.A.W.\, 20 Cedar Street\
 , Kingston\, NY\, 12401\, United States
GEO:41.928545;-74.004206
X-APPLE-STRUCTURED-LOCATION;VALUE=URI;X-ADDRESS=20 Cedar Street\, Kingston\
 , NY\, 12401\, United States;X-APPLE-RADIUS=100;X-TITLE=Midtown Kingston A
 rts District and the D.R.A.W.:geo:41.928545,-74.004206
END:VEVENT
BEGIN:VTIMEZONE
TZID:America/New_York
X-LIC-LOCATION:America/New_York
BEGIN:STANDARD
DTSTART:20251102T010000
TZOFFSETFROM:-0400
TZOFFSETTO:-0500
TZNAME:EST
END:STANDARD
END:VTIMEZONE
END:VCALENDAR