BEGIN:VCALENDAR
VERSION:2.0
PRODID:-//wp-events-plugin.com//7.2.3.1//EN
TZID:America/New_York
X-WR-TIMEZONE:America/New_York
BEGIN:VEVENT
UID:151821@kingstonhappenings.org
DTSTART;TZID=America/New_York:20251118T180000
DTEND;TZID=America/New_York:20251209T203000
DTSTAMP:20251117T145627Z
URL:https://kingstonhappenings.org/events/four-day-class-intro-to-monotype
 -a-painterly-and-experimental-printmaking-technique-nps/
SUMMARY:Four Day Class - Intro to Monotype: A Painterly and Experimental Pr
 intmaking Technique (NPS)
DESCRIPTION:4 Tuesdays\nNovember 18\, 25\, December 2\, 9 (Snow day Dec 16)
 \n6:00 - 8:30 pm\n\nAges 14 and Up\n\nIn this 4-week course\, students wil
 l learn the basics of monotype printing techniques to create dimensional\,
  one-of-a-kind prints! Monoprinting allows you to apply ink to your printi
 ng plate in a painterly approach and have the opportunity to add\, subtrac
 t\, or rework your image before transferring it onto your paper. Artist\, 
 Riss Principe will guide students through additive and subtractive mark-ma
 king\, stenciling\, tracing\, working with a ghost print\, and layering of
  colors and compositional elements. People of all experience levels are en
 couraged to enroll. With so much room for play and experimentation\, monop
 rinting is a great way to let your imagination run wild and find inspirati
 on for future work!\n\nAll materials are included.\n\nParking: Please par
 k on either Iwo Jima Lane or Cedar Street. Parking that is located in fron
 t of the Neighborhood Print Studio are for residents living in the Pajama 
 Factory.\n\n--------------------------\n\nPlease register at least a week 
 in advance to guarantee your spot. Scholarship availability closes 2 weeks
  prior to the start of class.\n\n-----------------------------------------
 \n\nWe believe in access to art education for all. It takes the whole comm
 unity to generate the equity our pay-what-you-can tuition generates. Behin
 d the scenes\, we work to bridge the financial gap between what our studen
 ts can pay and what we need to sustain our programs. Please consider caref
 ully before you use our discount codes.\n\nScholarship Codes:\nFor 25% dis
 count use code "25OFF"\nFor 50% discount use code "50OFF"\nFor 75% discoun
 t use code "75OFF"\n\nThis economic justice map from The Sliding Scale: A
  Tool of Economic Justice by Alexis J. Cunningfolk is useful to assess wh
 ere you may fall on the financial spectrum of pay what you can.\n\nTo requ
 est 100% off tuition\, please contact chris@mkad.art
ATTACH;FMTTYPE=image/jpeg:https://kingstonhappenings.org/wp-content/upload
 s/2025/09/Four-Day-Class-Intro-to-Monotype-A-Painterly-and-Experimental-Pr
 intmaking-Technique-NPS.jpg
CATEGORIES:@Featured
LOCATION:Neighborhood Print Studio\, 49 Greenkill Avenue\, Kingston\, NY\, 
 12401\, United Kingdom
GEO:41.927819;-74.004441
X-APPLE-STRUCTURED-LOCATION;VALUE=URI;X-ADDRESS=49 Greenkill Avenue\, Kings
 ton\, NY\, 12401\, United Kingdom;X-APPLE-RADIUS=100;X-TITLE=Neighborhood 
 Print Studio:geo:41.927819,-74.004441
END:VEVENT
BEGIN:VTIMEZONE
TZID:America/New_York
X-LIC-LOCATION:America/New_York
BEGIN:STANDARD
DTSTART:20251102T010000
TZOFFSETFROM:-0400
TZOFFSETTO:-0500
TZNAME:EST
END:STANDARD
END:VTIMEZONE
END:VCALENDAR