BEGIN:VCALENDAR
VERSION:2.0
PRODID:-//wp-events-plugin.com//7.2.3.1//EN
TZID:America/New_York
X-WR-TIMEZONE:America/New_York
BEGIN:VEVENT
UID:153267@kingstonhappenings.org
DTSTART;TZID=America/New_York:20260123T180000
DTEND;TZID=America/New_York:20260123T210000
DTSTAMP:20260119T162802Z
URL:https://kingstonhappenings.org/events/four-day-class-intro-to-bookbind
 ing-monotype-accordion-books-nps-2-2026-01-23/
SUMMARY:Four Day Class - Intro To Bookbinding: Monotype Accordion Books (NP
 S)
DESCRIPTION:4 Fridays\nJanuary 9\, 16\, 23\, &amp\; 30 (Snow Day February 6
 th)\n6:00 pm - 9 pm\n\nPrice: $460\n\nAges 16+\n\nJoin artist Sophia Bon i
 n this introductory bookbinding class where students will explore the poss
 ibilities of accordion and pamphlet binding! Bon will guide students on a 
 variety of monotype processes and how to incorporate their monotype print
 s into accordion books. Through sewing\, gluing\, and cutting pages\, stud
 ents will learn how to create simple and dynamic objects. Students will be
  encouraged to experiment with several monotype techniques\, and consider 
 the purpose of their book and how its form can be reflective of its conten
 t.\n\nThis class can have varying levels of difficulty depending on how mu
 ch students want to push themselves during their time in the class\, the b
 inding itself is beginner friendly and easy to continue exploring at home 
 or in your own studio beyond this class!\n\nAll materials provided.\n\nPar
 king: Please park on either Iwo Jima Lane or Cedar Street. Parking that i
 s located in front of the Neighborhood Print Studio are for residents livi
 ng in the Pajama Factory.\n\n-----------------------------------------\n\n
 Please register at least a week in advance to guarantee your spot. Scholar
 ship availability closes 2 weeks prior to the start of class.\n\n---------
 --------------------------------\n\nWe believe in access to art education 
 for all. It takes the whole community to generate the equity our pay-what-
 you-can tuition generates. Behind the scenes\, we work to bridge the finan
 cial gap between what our students can pay and what we need to sustain our
  programs. Please consider carefully before you use our discount codes.\n\
 nScholarship Codes:\nFor 25% discount use code "25OFF"\nFor 50% discount u
 se code "50OFF"\nFor 75% discount use code "75OFF"\n\nThis economic justic
 e map from The Sliding Scale: A Tool of Economic Justice by Alexis J. Cun
 ningfolk is useful to assess where you may fall on the financial spectrum
  of pay what you can.\n\nTo request 100% off tuition\, please contact chr
 is@mkad.art
ATTACH;FMTTYPE=image/jpeg:https://kingstonhappenings.org/wp-content/upload
 s/2025/12/Four-Day-Class-Intro-To-Bookbinding-Monotype-Accordion-Books-NPS
 .jpeg
CATEGORIES:@Newsletter,Art,Educational classes and lectures
LOCATION:Neighborhood Print Studio\, 49 Greenkill Avenue\, Kingston\, NY\, 
 12401\, United Kingdom
GEO:41.927819;-74.004441
X-APPLE-STRUCTURED-LOCATION;VALUE=URI;X-ADDRESS=49 Greenkill Avenue\, Kings
 ton\, NY\, 12401\, United Kingdom;X-APPLE-RADIUS=100;X-TITLE=Neighborhood 
 Print Studio:geo:41.927819,-74.004441
END:VEVENT
BEGIN:VTIMEZONE
TZID:America/New_York
X-LIC-LOCATION:America/New_York
BEGIN:STANDARD
DTSTART:20251102T010000
TZOFFSETFROM:-0400
TZOFFSETTO:-0500
TZNAME:EST
END:STANDARD
END:VTIMEZONE
END:VCALENDAR