BEGIN:VCALENDAR
VERSION:2.0
PRODID:-//wp-events-plugin.com//7.2.3.1//EN
TZID:America/New_York
X-WR-TIMEZONE:America/New_York
BEGIN:VEVENT
UID:152150@kingstonhappenings.org
DTSTART;TZID=America/New_York:20251010T120000
DTEND;TZID=America/New_York:20251010T120000
DTSTAMP:20251007T130834Z
URL:https://kingstonhappenings.org/events/food-distribution-ucca/
SUMMARY:Food Distribution @ UCCA
DESCRIPTION:The distribution is open to the public and no pre-registration 
 is required.\nFood is distributed on a first-come\, first-served basis\, a
 nd the distribution will last until supplies are gone.
ATTACH;FMTTYPE=image/jpeg:https://kingstonhappenings.org/wp-content/upload
 s/2025/10/554642853_1222418969923677_3177099130939159917_n.jpg
CATEGORIES:@Featured,@Newsletter,Community
LOCATION:Ulster County Community Action \, 70 Lindsley Avenue\, Kingston\, 
 NY\, 12401\, United States
GEO:41.927892;-73.97251790000001
X-APPLE-STRUCTURED-LOCATION;VALUE=URI;X-ADDRESS=70 Lindsley Avenue\, Kingst
 on\, NY\, 12401\, United States;X-APPLE-RADIUS=100;X-TITLE=Ulster County C
 ommunity Action :geo:41.927892,-73.97251790000001
END:VEVENT
BEGIN:VTIMEZONE
TZID:America/New_York
X-LIC-LOCATION:America/New_York
BEGIN:DAYLIGHT
DTSTART:20250309T030000
TZOFFSETFROM:-0500
TZOFFSETTO:-0400
TZNAME:EDT
END:DAYLIGHT
END:VTIMEZONE
END:VCALENDAR