BEGIN:VCALENDAR
VERSION:2.0
PRODID:-//wp-events-plugin.com//7.2.3.1//EN
TZID:America/New_York
X-WR-TIMEZONE:America/New_York
BEGIN:VEVENT
UID:151899@kingstonhappenings.org
DTSTART;TZID=America/New_York:20250928T160000
DTEND;TZID=America/New_York:20250928T174500
DTSTAMP:20250917T012616Z
URL:https://kingstonhappenings.org/events/folktales/
SUMMARY:Folktales
DESCRIPTION:For this screening\, Co-Director Rachel Grady will be joining u
 s for a Q&amp\;A after the film!\n\nThe new documentary\, which had its wo
 rld premiere in January at the Sundance Film Festival\, follows teenagers 
 who converge at a traditional folk high school in Arctic Norway during a g
 ap year where they must rely on only themselves\, one another and a loyal 
 pack of sled dogs as they all grow in unexpected directions. In Norse myth
 ology\, the three “Norns” are powerful deities who weave the threads o
 f fate and shape humans’ futures. Today\, Pasvik Folk High School in nor
 thern Norway aims to produce a similar life-changing effect on its student
 s. Guided by patient teachers and a yard full of heroic Alaskan huskies\, 
 the teens discover their own potential and develop deep relationships with
  the land\, animals and humans around them.
ATTACH;FMTTYPE=image/jpeg:https://kingstonhappenings.org/wp-content/upload
 s/2025/09/Folktales-sm.png
CATEGORIES:@Featured,Movies
LOCATION:Rosendale Theater\, 408 Main St\, Rosendale\, New York\, 12472\, U
 nited States
GEO:41.8441401;-74.0821133
X-APPLE-STRUCTURED-LOCATION;VALUE=URI;X-ADDRESS=408 Main St\, Rosendale\, N
 ew York\, 12472\, United States;X-APPLE-RADIUS=100;X-TITLE=Rosendale Theat
 er:geo:41.8441401,-74.0821133
END:VEVENT
BEGIN:VTIMEZONE
TZID:America/New_York
X-LIC-LOCATION:America/New_York
BEGIN:DAYLIGHT
DTSTART:20250309T030000
TZOFFSETFROM:-0500
TZOFFSETTO:-0400
TZNAME:EDT
END:DAYLIGHT
END:VTIMEZONE
END:VCALENDAR