BEGIN:VCALENDAR
VERSION:2.0
PRODID:-//wp-events-plugin.com//7.2.3.1//EN
TZID:America/New_York
X-WR-TIMEZONE:America/New_York
BEGIN:VEVENT
UID:155818@kingstonhappenings.org
DTSTART;TZID=America/New_York:20260314T190000
DTEND;TZID=America/New_York:20260314T190000
DTSTAMP:20260309T165628Z
URL:https://kingstonhappenings.org/events/fnpsmaking-dark-waves-night/
SUMMARY:FnP's'Making Dark Waves' Night
DESCRIPTION:~FnP's'Making Dark Waves' Night~\nSaturday March 14th\, 2026\nU
 nicorn Bar224 Foxhall AveKingston\, NY\nDoors 7pmTicket link: https://www
 .viewcy.com/event/making_dark_waves_a\nSilver Rein - http://www.silverrei
 n.bandcamp.comPilgrims - http://www.pilgrimsofyearning.bandcamp.comFrench
 y and the Punk - http://www.frenchyandthepunk.bandcamp.com\nWith Guest DJ
  Transmission (Freddy Hernandez)Host/DJ of Transmission NJ on WFDU!\nA nig
 ht of Post-Punk/Dark Folk/Goth Rock\n**(The Easthampton\, MA show is on Ma
 rch 13th!)**
ATTACH;FMTTYPE=image/jpeg:https://kingstonhappenings.org/wp-content/upload
 s/2026/03/588350043_1427502582268539_2220319500125403198_n.jpg
CATEGORIES:@Featured,@Newsletter,Music,Nightlife and entertainment
LOCATION:Unicorn Bar\, 224 Foxhall Ave.\, KINGSTON\, NY\, 12401\, United St
 ates
GEO:41.933684;-73.996845
X-APPLE-STRUCTURED-LOCATION;VALUE=URI;X-ADDRESS=224 Foxhall Ave.\, KINGSTON
 \, NY\, 12401\, United States;X-APPLE-RADIUS=100;X-TITLE=Unicorn Bar:geo:4
 1.933684,-73.996845
END:VEVENT
BEGIN:VTIMEZONE
TZID:America/New_York
X-LIC-LOCATION:America/New_York
BEGIN:DAYLIGHT
DTSTART:20260308T030000
TZOFFSETFROM:-0500
TZOFFSETTO:-0400
TZNAME:EDT
END:DAYLIGHT
END:VTIMEZONE
END:VCALENDAR