BEGIN:VCALENDAR
VERSION:2.0
PRODID:-//wp-events-plugin.com//7.2.3.1//EN
TZID:America/New_York
X-WR-TIMEZONE:America/New_York
BEGIN:VEVENT
UID:155366@kingstonhappenings.org
DTSTART;TZID=America/New_York:20260220T190000
DTEND;TZID=America/New_York:20260220T190000
DTSTAMP:20260218T165156Z
URL:https://kingstonhappenings.org/events/florist-performs-the-birds-outsi
 de-sang-holdly-w-hello-shark/
SUMMARY:Florist Performs 'The Birds Outside Sang' & 'Holdly' w/ Hello Shark
DESCRIPTION:Florist began in the Catskill Mountains as the friendship proje
 ct of Emily Sprague\, Rick Spataro\, and Jonnie Baker\, later joined by Fe
 lix Walworth. Holdly (2015) and The Birds Outside Sang (2016) captured the
  earliest moments of that bond\; hushed\, homespun songs shaped equally by
  intimacy and resilience. The latter was written in the aftermath of Sprag
 ue’s near-fatal bike accident\, beginning in solitude and concluding wit
 h the band’s return to each other\, offering a portrait of healing\, com
 munity\, and the power of sound shared among friends. These recordings bec
 ame cornerstones of Florist’s world: quiet yet expansive\, deeply person
 al yet instantly connective.In the years since\, Florist has carried those
  themes forward across four more full-lengths. If Blue Could Be Happiness 
 (2017) offered a meditation on grief and memory\, while Emily Alone (2019)
  distilled Sprague’s voice into stark\, solitary reflections before the 
 band reunited for the expansive\, self-titled Florist (2022)\, a culminati
 on of their collaborative spirit. Most recently\, Jellywish (2025) found t
 he quartet embracing surrealism and possibility\, holding both the magic a
 nd weight of existence at once. A decade on\, the reissue of Holdly and Th
 e Birds Outside Sang highlights the origins of that journey\, preserving t
 he tenderness and friendship at Florist’s core while tracing the roots o
 f a band that continues to evolve with wonder and care.\nhttps://florist.l
 ife/\nHELLO SHARKHello Shark is the musical project of Linc Halloran (born
  August 31\, 1988)\, a Kittery\, Maine based singer-songwriter. Since 2006
 \, Halloran has released a handful of albums and EPs including Break Arms 
 (2010)\, H.S (2012)\, and the critically acclaimed Delicate (2016). Hello 
 Shark features a rotating cast of musicians on releases and live performan
 ces\, and has consistently toured North America since the band's formation
 .
ATTACH;FMTTYPE=image/jpeg:https://kingstonhappenings.org/wp-content/upload
 s/2026/02/612631862_1530389508886606_8554271720901638737_n.jpg
CATEGORIES:@Featured,@Newsletter,Music,Nightlife and entertainment
LOCATION:Colony Woodstock NY\, 22 Rock City Rd\, Woodstock\, New York\, Uni
 ted States
GEO:42.0424924;-74.11799489999999
X-APPLE-STRUCTURED-LOCATION;VALUE=URI;X-ADDRESS=22 Rock City Rd\, Woodstock
 \, New York\, United States;X-APPLE-RADIUS=100;X-TITLE=Colony Woodstock NY
 :geo:42.0424924,-74.11799489999999
END:VEVENT
BEGIN:VTIMEZONE
TZID:America/New_York
X-LIC-LOCATION:America/New_York
BEGIN:STANDARD
DTSTART:20251102T010000
TZOFFSETFROM:-0400
TZOFFSETTO:-0500
TZNAME:EST
END:STANDARD
END:VTIMEZONE
END:VCALENDAR