BEGIN:VCALENDAR
VERSION:2.0
PRODID:-//wp-events-plugin.com//7.2.3.1//EN
TZID:America/New_York
X-WR-TIMEZONE:America/New_York
BEGIN:VEVENT
UID:156435@kingstonhappenings.org
DTSTART;TZID=America/New_York:20260530T200000
DTEND;TZID=America/New_York:20260530T220000
DTSTAMP:20260423T180125Z
URL:https://kingstonhappenings.org/events/flamenkora-a-night-of-ancestral-
 crossings-and-new-world-fire/
SUMMARY:FlamenKora — A Night of Ancestral Crossings and New‑World Fire
DESCRIPTION:For the first time in New York\, FlamenKora steps onto the st
 age carrying the breath of three distant homelands—Senegal\, Brazil/Spai
 n\, and finally New York—woven into one luminous musical current. This
  is music shaped by migration\, memory\, and the ancient pathways between 
 continents.\n\nAli Boulo Santo Cissoko (Senegal) – Kora\, Vocals\nRober
 to Monteiro (Brazil/Spain) – Flamenco Guitar\nVolker Goetze (USA/Germa
 ny) – Trumpet\, Flugelhorn\n\nBy sensitively and skillfully interweaving
  improvised trumpet and flamenco guitar with traditional mandinka kora a
 nd vocals from Senegal\, FlamenKora creates timeless and enchanting multic
 ultural music\; a welcome balm in these troubled times.\n\nVolker Goetze
 ’s evocative trumpet lines dance gracefully with the soulful vocals and 
 kora of his newest duo partner\, the esteemed master of traditional Mande 
 music – Ali Boulo Santo Cissoko. Up-and-coming flamenco guitar maestro R
 oberto Monteiro is the newest band member\, adding authentic Spanish flair
  with driving rhythms and subtle\, imaginative colors. As the group’s fo
 under and producer\, Goetze brings a special wisdom to FlamenKora\, acquir
 ed not only through decades of devotion to West African Mande music\, bu
 t also through a deep mastery of jazz composition and arrangement and a 
 recent deep dive into the melodic and rhythmic traditions of flamenco an
 d maqam.\n\nAdvance tickets: $25 community / $35 standard / $50 supporter
  (plus fees)\nDay-of / Door price: $35\, subject to availability\nAll tick
 ets are general admission.\n\nGET TICKETS HERE
ATTACH;FMTTYPE=image/jpeg:https://kingstonhappenings.org/wp-content/upload
 s/2026/04/FLAMENKORA_Volker_Goetze_DSC06458_Photo_by_Youri_Lenquette-1920w
 .jpg
CATEGORIES:@Featured,Music
LOCATION:Tempo Arts\, 29 Wurts St. \, KINGSTON\, NY\, 12401\, United States
GEO:41.918241;-73.986437
X-APPLE-STRUCTURED-LOCATION;VALUE=URI;X-ADDRESS=29 Wurts St. \, KINGSTON\, 
 NY\, 12401\, United States;X-APPLE-RADIUS=100;X-TITLE=Tempo Arts:geo:41.91
 8241,-73.986437
END:VEVENT
BEGIN:VTIMEZONE
TZID:America/New_York
X-LIC-LOCATION:America/New_York
BEGIN:DAYLIGHT
DTSTART:20260308T030000
TZOFFSETFROM:-0500
TZOFFSETTO:-0400
TZNAME:EDT
END:DAYLIGHT
END:VTIMEZONE
END:VCALENDAR