BEGIN:VCALENDAR
VERSION:2.0
PRODID:-//wp-events-plugin.com//7.2.3.1//EN
TZID:America/New_York
X-WR-TIMEZONE:America/New_York
BEGIN:VEVENT
UID:155873@kingstonhappenings.org
DTSTART;TZID=America/New_York:20260502T100000
DTEND;TZID=America/New_York:20260502T100000
DTSTAMP:20260313T162338Z
URL:https://kingstonhappenings.org/events/first-day-of-public-tours-at-woo
 dstock-farm-sanctuary/
SUMMARY:First Day of Public Tours at Woodstock Farm Sanctuary
DESCRIPTION:Join us for the first day of public education tours on May 2nd!
  Meet some of the rescued residents who call the Sanctuary home\, and lear
 n more about the work we do.\nKid-friendly and private tours also availabl
 e.
ATTACH;FMTTYPE=image/jpeg:https://kingstonhappenings.org/wp-content/upload
 s/2026/03/3.jpg
CATEGORIES:@Featured,Community,Educational classes and lectures
LOCATION:Woodstock Farm Sanctuary\, 2 Rescue Rd.\, High Falls \, New York\,
  12440\, United States
GEO:41.8095874;-74.1687162
X-APPLE-STRUCTURED-LOCATION;VALUE=URI;X-ADDRESS=2 Rescue Rd.\, High Falls \
 , New York\, 12440\, United States;X-APPLE-RADIUS=100;X-TITLE=Woodstock Fa
 rm Sanctuary:geo:41.8095874,-74.1687162
END:VEVENT
BEGIN:VTIMEZONE
TZID:America/New_York
X-LIC-LOCATION:America/New_York
BEGIN:DAYLIGHT
DTSTART:20260308T030000
TZOFFSETFROM:-0500
TZOFFSETTO:-0400
TZNAME:EDT
END:DAYLIGHT
END:VTIMEZONE
END:VCALENDAR