BEGIN:VCALENDAR
VERSION:2.0
PRODID:-//wp-events-plugin.com//7.2.3.1//EN
TZID:America/New_York
X-WR-TIMEZONE:America/New_York
BEGIN:VEVENT
UID:152223@kingstonhappenings.org
DTSTART;TZID=America/New_York:20251022T180000
DTEND;TZID=America/New_York:20251119T193000
DTSTAMP:20251027T134229Z
URL:https://kingstonhappenings.org/events/finding-your-steady-center-ifs-p
 ractice-group/
SUMMARY:Finding Your Steady Center: IFS Practice Group
DESCRIPTION:Finding Your Steady Center\nOur Practice Group is starting up a
 gain later this month — now as a five-week journey.\n\nThis group offers
  space to slow down\, reconnect\, and practice finding balance when life p
 ulls you in different directions. Each week we’ll focus on a different t
 heme to help you deepen awareness of your system and strengthen Self-leade
 rship in daily life.\nFive-Week Journey\nWeek 1 – Your Grounded Center\n
 Explore what it feels like to move through the day from a grounded\, Self-
 led place versus a reactive one. Begin to recognize that felt sense of bal
 ance in your body and mind.\nWeek 2 – Meeting the Protectors &amp\; Fire
 fighters\nGet to know the parts that jump in to keep you safe or manage em
 otion. Learn to approach them with curiosity and compassion instead of fru
 stration.\nWeek 3 – From Blending to Balance\nUnderstand what it means t
 o be “blended” with a part and how to step back into Self when reactiv
 ity takes over.\nWeek 4 – Understanding Exiles\nGently explore the vulne
 rable parts beneath your protectors — the ones carrying pain or fear —
  and learn how to approach them safely.\nWeek 5 – Living with Self-Leade
 rship\nIntegrate everything you’ve learned with practical tools for retu
 rning to calm\, clarity\, and compassion in daily life.\n\nWednesdays\, Oc
 t 22 – Nov 19 | 6:00 – 7:30 pm\n\nThe Kingston Asterisk\, Hurley Ave\n
 \nCost: $40 per session or $175 for the full series (please contact detail
 s of the price as a problem)\n\nFacilitators: \n\nCharles Thompson-Shealy\
 , LCSW IFS Level 2 trained (Charles Thompson-Shealy LCSW)\n\nDanny Kerry\,
  IFS-informed Coach (DannyKerryCoaching.com)\n\nRegister here:\n\nhttps://
 docs.google.com/forms/d/e/1FAIpQLSesfBNEFvuqMc2JfJlh45JZdFYOCTt4ugJdkF1hrp
 LF-WnxaA/viewform\n\nwww.kingstonasterisk.com/events
ATTACH;FMTTYPE=image/jpeg:https://kingstonhappenings.org/wp-content/upload
 s/2025/10/IFSGroup.jpg
CATEGORIES:Health, fitness, yoga, martial arts and other classes
LOCATION:The Asterisk in Kingston\, 211 Hurley Avenue\, Hurley\, NY\, 12401
 \, United States
GEO:41.933282;-74.051399
X-APPLE-STRUCTURED-LOCATION;VALUE=URI;X-ADDRESS=211 Hurley Avenue\, Hurley\
 , NY\, 12401\, United States;X-APPLE-RADIUS=100;X-TITLE=The Asterisk in Ki
 ngston:geo:41.933282,-74.051399
END:VEVENT
BEGIN:VTIMEZONE
TZID:America/New_York
X-LIC-LOCATION:America/New_York
BEGIN:DAYLIGHT
DTSTART:20250309T030000
TZOFFSETFROM:-0500
TZOFFSETTO:-0400
TZNAME:EDT
END:DAYLIGHT
BEGIN:STANDARD
DTSTART:20251102T010000
TZOFFSETFROM:-0400
TZOFFSETTO:-0500
TZNAME:EST
END:STANDARD
END:VTIMEZONE
END:VCALENDAR