BEGIN:VCALENDAR
VERSION:2.0
PRODID:-//wp-events-plugin.com//7.2.3.1//EN
TZID:America/New_York
X-WR-TIMEZONE:America/New_York
BEGIN:VEVENT
UID:152810@kingstonhappenings.org
DTSTART;TZID=America/New_York:20251129T170000
DTEND;TZID=America/New_York:20251129T190000
DTSTAMP:20251124T145432Z
URL:https://kingstonhappenings.org/events/finding-alice-performing-at-wint
 ertide/
SUMMARY:Finding Alice performing at Wintertide
DESCRIPTION:Union Street Brewing Co presents Finding Alice performing at Wi
 ntertide on the Kingston Roundout waterfront!
ATTACH;FMTTYPE=image/jpeg:https://kingstonhappenings.org/wp-content/upload
 s/2025/11/561616231_1133941398726393_166459242790554154_n-1.jpg
CATEGORIES:@Featured,@Newsletter,Community,Music,Nightlife and
 entertainment
LOCATION:Kingston\, NY\, 1 FakeStreetNameSoCheckDetail\, Kingston\, NY\, 12
 401\, United States
GEO:41.9270367;-73.99736080000002
X-APPLE-STRUCTURED-LOCATION;VALUE=URI;X-ADDRESS=1 FakeStreetNameSoCheckDeta
 il\, Kingston\, NY\, 12401\, United States;X-APPLE-RADIUS=100;X-TITLE=King
 ston\, NY:geo:41.9270367,-73.99736080000002
END:VEVENT
BEGIN:VTIMEZONE
TZID:America/New_York
X-LIC-LOCATION:America/New_York
BEGIN:STANDARD
DTSTART:20251102T010000
TZOFFSETFROM:-0400
TZOFFSETTO:-0500
TZNAME:EST
END:STANDARD
END:VTIMEZONE
END:VCALENDAR