BEGIN:VCALENDAR
VERSION:2.0
PRODID:-//wp-events-plugin.com//7.2.3.1//EN
TZID:America/New_York
X-WR-TIMEZONE:America/New_York
BEGIN:VEVENT
UID:152789@kingstonhappenings.org
DTSTART;TZID=America/New_York:20251212T190000
DTEND;TZID=America/New_York:20251212T213000
DTSTAMP:20251208T204559Z
URL:https://kingstonhappenings.org/events/film-screening-and-album-release
 -of-tell-me-how-you-breathe/
SUMMARY:Film Screening and Album Release of ‘Tell Me How You Breathe’
DESCRIPTION:Please join Loom Ensemble on for the Film Screening and Album R
 elease of ‘Tell Me How You Breathe.’ This musical theater work on clim
 ate crisis toured over ten cities throughout Vermont\, Massachusetts and N
 ew York and is finally available for your eyes and ears. We’ll view the 
 film\, hear tracks from the new album\, and have a discussion with artists
  from the Ensemble. Snacks and beverages will be available by donation.\n\
 n$5 - 25 sliding scale tickets\n\nFilm Screening and Album Release of ‘T
 ell Me How You Breathe.’ - WildHeart\n\n&nbsp\;\n\nAbout the Show "Tell 
 Me How You Breathe"\n\nWildfires choke the air\, police steal breath\, and
  respiratory disease halts business-as-usual. The lungs are the site of in
 terconnectedness and the organ of grief. Though these intersecting crises 
 were highlighted in 2020\, in many ways they continue to intensify. “Who
  gets to breathe freely\, fully\, with ease\,” is still a necessary ques
 tion\, directly touching on racism\, environmental crisis\, and public hea
 lth. Loom’s 2023 piece “Tell Me How You Breathe\,” brings audiences 
 to a world where climate crisis has progressed just slightly more than our
  present day\, to play out the clash between public health systems (instit
 utional power structures) and ancestral healing practices.\n\n&nbsp\;
ATTACH;FMTTYPE=image/jpeg:https://kingstonhappenings.org/wp-content/upload
 s/2025/11/Show-Banner.png
CATEGORIES:@Featured,@Newsletter,Movies,Music
LOCATION:WildHeart: Center for Performance and Embodiment Practice\, 183 Ea
 st Road\, Wallkill\, NY\, 12589\, United States
GEO:41.588939;-74.05362
X-APPLE-STRUCTURED-LOCATION;VALUE=URI;X-ADDRESS=183 East Road\, Wallkill\, 
 NY\, 12589\, United States;X-APPLE-RADIUS=100;X-TITLE=WildHeart: Center fo
 r Performance and Embodiment Practice:geo:41.588939,-74.05362
END:VEVENT
BEGIN:VTIMEZONE
TZID:America/New_York
X-LIC-LOCATION:America/New_York
BEGIN:STANDARD
DTSTART:20251102T010000
TZOFFSETFROM:-0400
TZOFFSETTO:-0500
TZNAME:EST
END:STANDARD
END:VTIMEZONE
END:VCALENDAR