BEGIN:VCALENDAR
VERSION:2.0
PRODID:-//wp-events-plugin.com//7.2.3.1//EN
TZID:America/New_York
X-WR-TIMEZONE:America/New_York
BEGIN:VEVENT
UID:155026@kingstonhappenings.org
DTSTART;TZID=America/New_York:20260301T000000
DTEND;TZID=America/New_York:20260301T140000
DTSTAMP:20260301T121522Z
URL:https://kingstonhappenings.org/events/film-pioneer-lois-weber-double-f
 eature/
SUMMARY:Film Pioneer Lois Weber Double Feature
DESCRIPTION:Lois Weber was one of the most important female directors of th
 e silent era\, known for addressing social issues in her work. We will sho
 w two of her progressive films"\n\n"Where Are My Children”\n\nDA Richard
  Walton desires a family\, but his wife chooses abortion to maintain her s
 ocial life. While prosecuting a doctor for illegal abortions\, he discover
 s his wife's name in the ledger\, leading to a confrontation.\n\n"Shoes"\n
 \nA young working girl\, struggling to support her family on her meager sa
 lary\, desperately wishes for a new pair of shoes. In constant pain and wi
 th no solution in sight\, the disheartened girl resorts to desperate measu
 res.\n\nSilent Film With Live Accompaniment by Marta Waterman
CATEGORIES:@Newsletter,Movies
LOCATION:Rosendale Theater\, 408 Main St\, Rosendale\, New York\, 12472\, U
 nited States
GEO:41.8441401;-74.0821133
X-APPLE-STRUCTURED-LOCATION;VALUE=URI;X-ADDRESS=408 Main St\, Rosendale\, N
 ew York\, 12472\, United States;X-APPLE-RADIUS=100;X-TITLE=Rosendale Theat
 er:geo:41.8441401,-74.0821133
END:VEVENT
BEGIN:VTIMEZONE
TZID:America/New_York
X-LIC-LOCATION:America/New_York
BEGIN:STANDARD
DTSTART:20251102T010000
TZOFFSETFROM:-0400
TZOFFSETTO:-0500
TZNAME:EST
END:STANDARD
END:VTIMEZONE
END:VCALENDAR