BEGIN:VCALENDAR
VERSION:2.0
PRODID:-//wp-events-plugin.com//7.2.3.1//EN
TZID:America/New_York
X-WR-TIMEZONE:America/New_York
BEGIN:VEVENT
UID:151846@kingstonhappenings.org
DTSTART;TZID=America/New_York:20250921T110000
DTEND;TZID=America/New_York:20250921T160000
DTSTAMP:20250915T190109Z
URL:https://kingstonhappenings.org/events/fill-the-van-4/
SUMMARY:Fill the Van
DESCRIPTION:Join the Ulster County SPCA for a Fill the Van &amp\; tabling e
 vent at our Pet Pantry Partner's location\, Lucas Pet Supply! Donate purr-
 chased items towards the care of our shelter animals\, and say hello to an
  adoptable shelter dog! We will have other adoptable shelter animals onsit
 e as well\, including cats and kittens! See our wish list at https://www.
 ucspca.org/get-involved/wish-list/
ATTACH;FMTTYPE=image/jpeg:https://kingstonhappenings.org/wp-content/upload
 s/2025/09/531633379_1216616637167229_3319845844551505690_n.jpg
CATEGORIES:@Featured,@Newsletter,Community
LOCATION:Kingston\, NY\, 1 FakeStreetNameSoCheckDetail\, Kingston\, NY\, 12
 401\, United States
GEO:41.9270367;-73.99736080000002
X-APPLE-STRUCTURED-LOCATION;VALUE=URI;X-ADDRESS=1 FakeStreetNameSoCheckDeta
 il\, Kingston\, NY\, 12401\, United States;X-APPLE-RADIUS=100;X-TITLE=King
 ston\, NY:geo:41.9270367,-73.99736080000002
END:VEVENT
BEGIN:VTIMEZONE
TZID:America/New_York
X-LIC-LOCATION:America/New_York
BEGIN:DAYLIGHT
DTSTART:20250309T030000
TZOFFSETFROM:-0500
TZOFFSETTO:-0400
TZNAME:EDT
END:DAYLIGHT
END:VTIMEZONE
END:VCALENDAR