BEGIN:VCALENDAR
VERSION:2.0
PRODID:-//wp-events-plugin.com//7.2.3.1//EN
TZID:America/New_York
X-WR-TIMEZONE:America/New_York
BEGIN:VEVENT
UID:152155@kingstonhappenings.org
DTSTART;TZID=America/New_York;VALUE=DATE:20251010
DTEND;TZID=America/New_York;VALUE=DATE:20251013
DTSTAMP:20251013T124526Z
URL:https://kingstonhappenings.org/events/field-and-supply-fall-market/
SUMMARY:Field and Supply Fall Market
DESCRIPTION:Join us for this October at the Hutton Brickyards in Kingston\,
  NY for our Fall MRKT. We'll have an extraordinary lineup of vendors as we
 ll as special activities and music throughout the weekend. This will be a 
 MRKT you won't want to miss!\nhttps://fieldandsupply.com/pages/fall-mrkt-2
 025
ATTACH;FMTTYPE=image/jpeg:https://kingstonhappenings.org/wp-content/upload
 s/2025/10/528235941_737561525807524_8319354165071798964_n.jpg
CATEGORIES:@Featured,@Newsletter,Market
LOCATION:Hutton Brickyards\, 200 North Street\, Kingston\, New York\, 12401
 \, United States
GEO:41.93624;-73.96704399999999
X-APPLE-STRUCTURED-LOCATION;VALUE=URI;X-ADDRESS=200 North Street\, Kingston
 \, New York\, 12401\, United States;X-APPLE-RADIUS=100;X-TITLE=Hutton Bric
 kyards:geo:41.93624,-73.96704399999999
END:VEVENT
BEGIN:VTIMEZONE
TZID:America/New_York
X-LIC-LOCATION:America/New_York
BEGIN:DAYLIGHT
DTSTART:20250309T030000
TZOFFSETFROM:-0500
TZOFFSETTO:-0400
TZNAME:EDT
END:DAYLIGHT
END:VTIMEZONE
END:VCALENDAR