BEGIN:VCALENDAR
VERSION:2.0
PRODID:-//wp-events-plugin.com//7.2.3.1//EN
TZID:America/New_York
X-WR-TIMEZONE:America/New_York
BEGIN:VEVENT
UID:153152@kingstonhappenings.org
DTSTART;TZID=America/New_York:20251225T000000
DTEND;TZID=America/New_York:20251225T000000
DTSTAMP:20251216T194141Z
URL:https://kingstonhappenings.org/events/fiddler-on-the-roof/
SUMMARY:Fiddler on the Roof
DESCRIPTION:The TRADITION continues for its third wonderful year!\n\nCome b
 y for the fun as we celebrate one of the most beloved musical film experie
 nces of all time!\n\nSing out loud to your heart’s content!\n\nA night o
 f family\, friends and joy!\n\nWe will be serving Chinese nosh of vegetabl
 e rolls and fried wonton free for everyone (while they last)!\n\nTopol rep
 eats his legendary stage performance as “Tevye the Milkman”\, who is c
 onstantly challenged by poverty\, prejudice and his daughters’ romantic 
 entanglements in a small Russian village at the beginning of the twentieth
  century.\n\nAll with FULL theatre sound on the BIG screen!\n\nWe hope you
 ’ll join us for this special film event!
ATTACH;FMTTYPE=image/jpeg:https://kingstonhappenings.org/wp-content/upload
 s/2025/12/Fiddler-sm.jpg
CATEGORIES:@Featured,Movies
LOCATION:Rosendale Theater\, 408 Main St\, Rosendale\, New York\, 12472\, U
 nited States
GEO:41.8441401;-74.0821133
X-APPLE-STRUCTURED-LOCATION;VALUE=URI;X-ADDRESS=408 Main St\, Rosendale\, N
 ew York\, 12472\, United States;X-APPLE-RADIUS=100;X-TITLE=Rosendale Theat
 er:geo:41.8441401,-74.0821133
END:VEVENT
BEGIN:VTIMEZONE
TZID:America/New_York
X-LIC-LOCATION:America/New_York
BEGIN:STANDARD
DTSTART:20251102T010000
TZOFFSETFROM:-0400
TZOFFSETTO:-0500
TZNAME:EST
END:STANDARD
END:VTIMEZONE
END:VCALENDAR