BEGIN:VCALENDAR
VERSION:2.0
PRODID:-//wp-events-plugin.com//7.2.3.1//EN
TZID:America/New_York
X-WR-TIMEZONE:America/New_York
BEGIN:VEVENT
UID:153243@kingstonhappenings.org
DTSTART;TZID=America/New_York:20251228T140000
DTEND;TZID=America/New_York:20251228T140000
DTSTAMP:20251229T185055Z
URL:https://kingstonhappenings.org/events/feast-of-friends-tribute-to-the-
 doors/
SUMMARY:Feast of Friends Tribute to the Doors
DESCRIPTION:Feast of Friends will be hosting this free local Holiday week s
 how as a gift to our loyal fans at the venue where it all began!\nFormed i
 n 2013 in upstate New York\, Feast of Friends is one of the only continuou
 sly active Doors tribute bands in the Northeast\, delivering electrifying 
 performances that honor the music of The Doors with precision and passion.
  Eschewing wigs\, costumes\, and impersonation\, the band focuses purely o
 n the sound—blending faithful studio detail with the raw improvisational
  spirit that defined The Doors’ legendary live shows. Featuring classic 
 hits alongside deep tracks rarely or never performed live by the original 
 band\, Feast of Friends has performed albums The Doors\, Strange Days\, an
 d L.A. Woman in their entirety and has toured extensively throughout the N
 ortheast and California\, earning praise as “spooky accurate\,” “unb
 elievable\,” and “powerful and electrifying.”
ATTACH;FMTTYPE=image/jpeg:https://kingstonhappenings.org/wp-content/upload
 s/2025/12/600048216_122106950487145258_4753326528709545966_n.jpg
CATEGORIES:@Featured,@Newsletter,Music,Nightlife and entertainment
LOCATION:Keegan Ales\, 20 Saint James Street\, Kingston\, NY\, 12401\, Unit
 ed States
GEO:41.931504;-74.01187
X-APPLE-STRUCTURED-LOCATION;VALUE=URI;X-ADDRESS=20 Saint James Street\, Kin
 gston\, NY\, 12401\, United States;X-APPLE-RADIUS=100;X-TITLE=Keegan Ales:
 geo:41.931504,-74.01187
END:VEVENT
BEGIN:VTIMEZONE
TZID:America/New_York
X-LIC-LOCATION:America/New_York
BEGIN:STANDARD
DTSTART:20251102T010000
TZOFFSETFROM:-0400
TZOFFSETTO:-0500
TZNAME:EST
END:STANDARD
END:VTIMEZONE
END:VCALENDAR