BEGIN:VCALENDAR
VERSION:2.0
PRODID:-//wp-events-plugin.com//7.2.3.1//EN
TZID:America/New_York
X-WR-TIMEZONE:America/New_York
BEGIN:VEVENT
UID:156399@kingstonhappenings.org
DTSTART;TZID=America/New_York:20260423T180000
DTEND;TZID=America/New_York:20260423T180000
DTSTAMP:20260420T164323Z
URL:https://kingstonhappenings.org/events/fantasy-flowers-with-jessica-wil
 liams-of-odd-duck-farms/
SUMMARY:Fantasy Flowers with Jessica Williams of Odd Duck Farms
DESCRIPTION:In this workshop we'll create fantastic arrangement featuring f
 lowers made from pine cones! Enhance their natural beauty with a delicate 
 wash of color or use your imagination to paint a blossom never seen before
 ! Tucked in a delicate glass bud vase with evergreens and grasses they'll 
 make a beautiful and long lasting accent for your home.\nSpace is limited\
 , sign up is required: https://hurleylibrary.libcal.com/event/16416334
ATTACH;FMTTYPE=image/jpeg:https://kingstonhappenings.org/wp-content/upload
 s/2026/04/659637916_1371566594998225_6902949599150156056_n.jpg
CATEGORIES:@Featured,@Newsletter,@Weekly Pick,Community,Educational
 classes and lectures
LOCATION:Hurley Library\, 48 Main St\, Hurley\, New York\, United States
GEO:41.9253483;-74.06352420000002
X-APPLE-STRUCTURED-LOCATION;VALUE=URI;X-ADDRESS=48 Main St\, Hurley\, New Y
 ork\, United States;X-APPLE-RADIUS=100;X-TITLE=Hurley Library:geo:41.92534
 83,-74.06352420000002
END:VEVENT
BEGIN:VTIMEZONE
TZID:America/New_York
X-LIC-LOCATION:America/New_York
BEGIN:DAYLIGHT
DTSTART:20260308T030000
TZOFFSETFROM:-0500
TZOFFSETTO:-0400
TZNAME:EDT
END:DAYLIGHT
END:VTIMEZONE
END:VCALENDAR