BEGIN:VCALENDAR
VERSION:2.0
PRODID:-//wp-events-plugin.com//7.2.3.1//EN
TZID:America/New_York
X-WR-TIMEZONE:America/New_York
BEGIN:VEVENT
UID:156456@kingstonhappenings.org
DTSTART;TZID=America/New_York:20260503T103000
DTEND;TZID=America/New_York:20260503T113000
DTSTAMP:20260425T182557Z
URL:https://kingstonhappenings.org/events/family-studio-hour-what-lives-in
 -a-garden/
SUMMARY:Family Studio Hour: What Lives in a Garden
DESCRIPTION:Family Studio Hour: What Lives in a Garden\n\nMay 3rd\, 2026\n1
 0:30-11:30 AM\n\nJoin Monika Zarzeczna for an hour of family studio time
 ! Learn about what lives in a garden and paint your own watercolor masterp
 iece.\nRecommended Ages 7 &amp\; under. FREE\n\nRegistration encouraged\; 
 walk-ins welcome!\n(Please note: If there are no registrations 24 hours be
 fore a session\, it will be cancelled.)\n\nParents &amp\; Guardians\, plea
 se bring food and drink for your child(ren) as necessary.\n\nhttps://www.e
 ventbrite.com/e/family-studio-hour-what-lives-in-a-garden-tickets-19875374
 80106?aff=oddtdtcreator
ATTACH;FMTTYPE=image/jpeg:https://kingstonhappenings.org/wp-content/upload
 s/2026/04/Garden-5.3-2026.jpg
CATEGORIES:@Featured,Art,For kids
LOCATION:Athens Cultural Center\, 24 Second St.\, Athens\, NY\, United Stat
 es
GEO:42.26042;-73.809144
X-APPLE-STRUCTURED-LOCATION;VALUE=URI;X-ADDRESS=24 Second St.\, Athens\, NY
 \, United States;X-APPLE-RADIUS=100;X-TITLE=Athens Cultural Center:geo:42.
 26042,-73.809144
END:VEVENT
BEGIN:VTIMEZONE
TZID:America/New_York
X-LIC-LOCATION:America/New_York
BEGIN:DAYLIGHT
DTSTART:20260308T030000
TZOFFSETFROM:-0500
TZOFFSETTO:-0400
TZNAME:EDT
END:DAYLIGHT
END:VTIMEZONE
END:VCALENDAR