BEGIN:VCALENDAR
VERSION:2.0
PRODID:-//wp-events-plugin.com//7.2.3.1//EN
TZID:America/New_York
X-WR-TIMEZONE:America/New_York
BEGIN:VEVENT
UID:152794@kingstonhappenings.org
DTSTART;TZID=America/New_York:20251127T090000
DTEND;TZID=America/New_York:20251127T110000
DTSTAMP:20251124T132041Z
URL:https://kingstonhappenings.org/events/family-of-woodstock-turkey-trot/
SUMMARY:Family of Woodstock Turkey Trot
DESCRIPTION:Our team has designed a fun and scenic 5K route that winds thro
 ugh our great little town\, finishing with a rewarding climb up Mill Hill 
 to the Village Green. It’s a challenge\, but one that every runner (and 
 walker!) can absolutely conquer.\nYou’ll be well-supported every step of
  the way\, with enthusiastic volunteers\, clear signage to guide you\, and
  assistance from the town to keep the course safe and enjoyable.\nDOGS: fo
 r safety and out of respect for others\, we ask that you keep your furry f
 riends at home.
ATTACH;FMTTYPE=image/jpeg:https://kingstonhappenings.org/wp-content/upload
 s/2025/11/548309502_1220412096791464_5924338537126380306_n.jpg
CATEGORIES:@Featured,@Newsletter,Community,Sports and recreation
LOCATION:Kingston\, NY\, 1 FakeStreetNameSoCheckDetail\, Kingston\, NY\, 12
 401\, United States
GEO:41.9270367;-73.99736080000002
X-APPLE-STRUCTURED-LOCATION;VALUE=URI;X-ADDRESS=1 FakeStreetNameSoCheckDeta
 il\, Kingston\, NY\, 12401\, United States;X-APPLE-RADIUS=100;X-TITLE=King
 ston\, NY:geo:41.9270367,-73.99736080000002
END:VEVENT
BEGIN:VTIMEZONE
TZID:America/New_York
X-LIC-LOCATION:America/New_York
BEGIN:STANDARD
DTSTART:20251102T010000
TZOFFSETFROM:-0400
TZOFFSETTO:-0500
TZNAME:EST
END:STANDARD
END:VTIMEZONE
END:VCALENDAR