BEGIN:VCALENDAR
VERSION:2.0
PRODID:-//wp-events-plugin.com//7.2.3.1//EN
TZID:America/New_York
X-WR-TIMEZONE:America/New_York
BEGIN:VEVENT
UID:152679@kingstonhappenings.org
DTSTART;TZID=America/New_York:20251220T140000
DTEND;TZID=America/New_York:20251220T160000
DTSTAMP:20251117T215853Z
URL:https://kingstonhappenings.org/events/family-math-afternoon-with-the-b
 ard-math-circle/
SUMMARY:Family Math Afternoon with the Bard Math Circle
DESCRIPTION:Join us for our 2025–2026 Family Math Afternoons for middle s
 chool students and their families.\n\nEnjoy a selection of engaging and ha
 nds-on math activities. The mathematical fun will be infinite! No prior re
 gistration needed\, meet upstairs in the Community Room.\n\nDays: Saturday
  afternoons\nTimes: 2–4pm\nDates in 2025: September 13\, October 18\, No
 vember 22\, and December 20\nDates in 2026: January 17\, February 21\, Mar
 ch 14\, and April 11\nLocation: Kingston Library\, 61 Crown Street\, Kings
 ton\, NY 12401. The library has plentiful free parking.\nAudience: Middle 
 school students and their families\n\n* The Kingston Library is in the Cio
 ni building in Uptown Kingston during renovation. The library expects to r
 eturn to 55 Franklin Street sometime this year.
ATTACH;FMTTYPE=image/jpeg:https://kingstonhappenings.org/wp-content/upload
 s/2025/11/BMCLogo.png
CATEGORIES:@Featured,For kids
LOCATION:Kingston Library\, 61 Crown St\, Kingston\, NY\, 12401\, United St
 ates
GEO:41.934381;-74.021982
X-APPLE-STRUCTURED-LOCATION;VALUE=URI;X-ADDRESS=61 Crown St\, Kingston\, NY
 \, 12401\, United States;X-APPLE-RADIUS=100;X-TITLE=Kingston Library:geo:4
 1.934381,-74.021982
END:VEVENT
BEGIN:VTIMEZONE
TZID:America/New_York
X-LIC-LOCATION:America/New_York
BEGIN:STANDARD
DTSTART:20251102T010000
TZOFFSETFROM:-0400
TZOFFSETTO:-0500
TZNAME:EST
END:STANDARD
END:VTIMEZONE
END:VCALENDAR