BEGIN:VCALENDAR
VERSION:2.0
PRODID:-//wp-events-plugin.com//7.2.3.1//EN
TZID:America/New_York
X-WR-TIMEZONE:America/New_York
BEGIN:VEVENT
UID:151842@kingstonhappenings.org
DTSTART;TZID=America/New_York:20250920T120000
DTEND;TZID=America/New_York:20250920T120000
DTSTAMP:20250916T002736Z
URL:https://kingstonhappenings.org/events/family-fun-day/
SUMMARY:Family Fun Day!
DESCRIPTION:Join the Friends of Forsyth Nature Center for Family Fun Day! A
  free event with activities\, animals\, food and entertainment for the fam
 ily! 12-4 at Forsyth Park with Lilo and Stitch movie in the park playing a
  dark!
ATTACH;FMTTYPE=image/jpeg:https://kingstonhappenings.org/wp-content/upload
 s/2025/09/543185960_1278276657677951_4850127953399161577_n.jpg
CATEGORIES:@Featured,@Newsletter,Community,Festivals and major community
 events,For kids,Nightlife and entertainment
LOCATION:Forsyth Park\, Lucas Avenue\, Kingston\, NY\, 12401\, United State
 s
GEO:41.93182202372481;-74.02967588354494
X-APPLE-STRUCTURED-LOCATION;VALUE=URI;X-ADDRESS=Lucas Avenue\, Kingston\, N
 Y\, 12401\, United States;X-APPLE-RADIUS=100;X-TITLE=Forsyth Park:geo:41.9
 3182202372481,-74.02967588354494
END:VEVENT
BEGIN:VTIMEZONE
TZID:America/New_York
X-LIC-LOCATION:America/New_York
BEGIN:DAYLIGHT
DTSTART:20250309T030000
TZOFFSETFROM:-0500
TZOFFSETTO:-0400
TZNAME:EDT
END:DAYLIGHT
END:VTIMEZONE
END:VCALENDAR