BEGIN:VCALENDAR
VERSION:2.0
PRODID:-//wp-events-plugin.com//7.2.3.1//EN
TZID:America/New_York
X-WR-TIMEZONE:America/New_York
BEGIN:VEVENT
UID:152226@kingstonhappenings.org
DTSTART;TZID=America/New_York:20251011T170000
DTEND;TZID=America/New_York:20251011T190000
DTSTAMP:20251014T135906Z
URL:https://kingstonhappenings.org/events/family-friendly-halloween-classi
 cs-spooky-tales-aboard-solaris-2025-10-09-2025-10-10-2025-10-11/
SUMMARY:Family Friendly Halloween Classics! Spooky Tales Aboard Solaris
DESCRIPTION:Come one\, come all and climb aboard the Hudson River Maritime 
 Museum’s solar powered boat Solaris for a ride of historical scares\, a
 ppropriate for all ages. Settle in and prepare to be spooked as our storyt
 ellers captivate you with specially selected tales for the Halloween seaso
 n. You’ll hear about a headless horseman\, ghosts stalking the river\, a
 nd other local lores. These stories have floated along the Hudson River an
 d beyond for generations\, and they’re sure to delight. Cozy up with som
 e hot cider and treats and enjoy the smooth\, quiet ride only Solaris can
  offer as you learn the haunted tales of the mighty Hudson.
ATTACH;FMTTYPE=image/jpeg:https://kingstonhappenings.org/wp-content/upload
 s/2025/10/Family-Classics-Cruises.png
CATEGORIES:@Featured,For kids,History,Museum and historic site hours
LOCATION:Hudson River Maritime Museum\, 50 Rondout Landing\, Kingston\, NY\
 , 12401\, United States
GEO:41.91886;-73.980984
X-APPLE-STRUCTURED-LOCATION;VALUE=URI;X-ADDRESS=50 Rondout Landing\, Kingst
 on\, NY\, 12401\, United States;X-APPLE-RADIUS=100;X-TITLE=Hudson River Ma
 ritime Museum:geo:41.91886,-73.980984
END:VEVENT
BEGIN:VTIMEZONE
TZID:America/New_York
X-LIC-LOCATION:America/New_York
BEGIN:DAYLIGHT
DTSTART:20250309T030000
TZOFFSETFROM:-0500
TZOFFSETTO:-0400
TZNAME:EDT
END:DAYLIGHT
END:VTIMEZONE
END:VCALENDAR