BEGIN:VCALENDAR
VERSION:2.0
PRODID:-//wp-events-plugin.com//7.2.3.1//EN
TZID:America/New_York
X-WR-TIMEZONE:America/New_York
BEGIN:VEVENT
UID:156386@kingstonhappenings.org
DTSTART;TZID=America/New_York:20260425T100000
DTEND;TZID=America/New_York:20260425T100000
DTSTAMP:20260420T164330Z
URL:https://kingstonhappenings.org/events/fam-jam-assembly/
SUMMARY:FAM JAM @ Assembly
DESCRIPTION:Assembly and Footprint present FAM JAM: Dancing for Kids\, M
 usic for Parents\, Activities for All! Featuring dancing\, art\, bounce ho
 use\, cash bar(!)\, snacks\, raffle\, and other family-friendly activities
 !\n\nTicket required for everybody ages 1+ (babies under 1yr do not need a
  ticket).\n\nHave a large group (20+)? Contact drew@impactconcerts.com f
 or group rates!\n\nCheck out the official FAM JAM Playlist | Raffle proc
 eeds to benefit People's Place
ATTACH;FMTTYPE=image/jpeg:https://kingstonhappenings.org/wp-content/upload
 s/2026/04/eb8c371f-966c-4e75-a126-884659c335e2.png
CATEGORIES:@Featured,@Newsletter,For kids,Sports and recreation
LOCATION:Assembly\, 236 Wall St. 3rd Floor\, KINGSTON\, NY\, 12401\, United
  States
GEO:41.931738;-74.018648
X-APPLE-STRUCTURED-LOCATION;VALUE=URI;X-ADDRESS=236 Wall St. 3rd Floor\, KI
 NGSTON\, NY\, 12401\, United States;X-APPLE-RADIUS=100;X-TITLE=Assembly:ge
 o:41.931738,-74.018648
END:VEVENT
BEGIN:VTIMEZONE
TZID:America/New_York
X-LIC-LOCATION:America/New_York
BEGIN:DAYLIGHT
DTSTART:20260308T030000
TZOFFSETFROM:-0500
TZOFFSETTO:-0400
TZNAME:EDT
END:DAYLIGHT
END:VTIMEZONE
END:VCALENDAR